BEGIN:VCALENDAR
VERSION:2.0
PRODID:-//ChamberMaster//Event Calendar 2.0//EN
METHOD:PUBLISH
X-PUBLISHED-TTL:P3D
REFRESH-INTERVAL:P3D
CALSCALE:GREGORIAN
BEGIN:VEVENT
DTSTART:20231123T043000Z
DTEND:20231123T060000Z
X-MICROSOFT-CDO-ALLDAYEVENT:FALSE
SUMMARY:Young Professional Buffet at Kushi
DESCRIPTION:We've had Fried Chicken\, we've had Dumplings\, and for November\, we're calling all Korean food enthusiasts for a Young Professional Buffet at Kushi!\n\n \n\nGet ready to immerse yourself in the delightful world of Korean cuisine. We're hosting a special Korean Food event designed just for you!\n\n\n\nDon't miss this chance to indulge in the delightful flavors of Korean cuisine while meeting like-minded Young Professionals in the Waikato.\n\n \n\nJoin us on the 23rd of November for a Korean culinary adventure like no other. Prepare your taste buds and your appetite for a mouthwatering experience!\n\n\n\nPlease note\, drinks are not included in the ticket price however can be purchased at the restaurant.\n\n \n\nWe can't wait to share the joys of Korean cuisine with you. See you there!\n\n\n\nRefunds will be available up until 1 week before the event. Please contact danielle.quigg@waikatochamber.co.nz before November 16th if you can no longer make it to arrange a refund. \n\n\n\nThis event is open to members and non-members. Registrations close at 12pm Wednesday 22nd November.
X-ALT-DESC;FMTTYPE=text/html:We&rsquo\;ve had Fried Chicken\, we&rsquo\;ve had Dumplings\, and for November\, we&rsquo\;re calling all Korean food enthusiasts for a Young Professional Buffet at Kushi!<br />\n&nbsp\;<br />\nGet ready to immerse yourself in the delightful world of Korean cuisine. We&#39\;re hosting a special Korean Food event designed just for you!<br />\n<br />\nDon&#39\;t miss this chance to indulge in the delightful flavors of Korean cuisine while meeting like-minded Young Professionals in the Waikato.<br />\n&nbsp\;<br />\nJoin us on the 23rd&nbsp\;of November for a Korean culinary adventure like no other. Prepare your taste buds and your appetite for a mouthwatering experience!<br />\n<br />\nPlease note\, drinks are not included in the ticket price however can be purchased at the restaurant.<br />\n&nbsp\;<br />\nWe can&#39\;t wait to share the joys of Korean cuisine with you. See you there!<br />\n<br />\nRefunds will be available up until 1 week before the event. Please contact <a href="http://danielle.quigg@waikatochamber.co.nz">danielle.quigg@waikatochamber.co.nz</a> before November 16th if you can no longer make it to arrange a refund.&nbsp\;<br />\n<br />\nThis event is open to members and non-members. Registrations close at 12pm Wednesday 22nd November.&nbsp\;
LOCATION:Meeting Point: Kushi\, 20 Alma Street Hamilton Central
UID:e.2751.4337
SEQUENCE:3
DTSTAMP:20260420T114414Z
URL:https://business.waikatochamber.co.nz/events/details/young-professional-buffet-at-kushi-4337
END:VEVENT

END:VCALENDAR
