BEGIN:VCALENDAR
VERSION:2.0
PRODID:-//ChamberMaster//Event Calendar 2.0//EN
METHOD:PUBLISH
X-PUBLISHED-TTL:P3D
REFRESH-INTERVAL:P3D
CALSCALE:GREGORIAN
BEGIN:VEVENT
DTSTART:20160825T040000Z
DTEND:20160825T040000Z
X-MICROSOFT-CDO-ALLDAYEVENT:FALSE
SUMMARY:WWBA Registration Close
DESCRIPTION:
X-ALT-DESC;FMTTYPE=text/html:
LOCATION:
UID:e.2751.7
SEQUENCE:3
DTSTAMP:20260424T180127Z
URL:https://business.waikatochamber.co.nz/events/details/wwba-registration-close-08-25-2016-7
END:VEVENT

END:VCALENDAR
