BEGIN:VCALENDAR
VERSION:2.0
PRODID:-//ChamberMaster//Event Calendar 2.0//EN
METHOD:PUBLISH
X-PUBLISHED-TTL:P3D
REFRESH-INTERVAL:P3D
CALSCALE:GREGORIAN
BEGIN:VEVENT
DTSTART:20200710T020000Z
DTEND:20200710T023000Z
X-MICROSOFT-CDO-ALLDAYEVENT:FALSE
SUMMARY:WWBA Q&A drop-in session 10th July
DESCRIPTION:Are you considering on entering the 2020 Westpac Waikato Business Awards ... but have some questions around the process\, time\, categories\, whats required\, how much do you need to write etc.....\n\n\n\nThen join our drop in session with Paula Sutton\, Awards Manager from the Waikato Chamber of Commerce and Dr Heather Connolly Head Judge from the University of Waikato for a informal Q&A session where they will try to answer everything you need to know.
X-ALT-DESC;FMTTYPE=text/html:Are you considering on entering the 2020 Westpac Waikato Business Awards ... but have some questions around the process\, time\, categories\, whats required\, how much do you need to write etc.....<br />\n<br />\nThen join our drop in session with Paula Sutton\, Awards Manager from the Waikato Chamber of Commerce and Dr Heather Connolly Head Judge from the University of Waikato for a informal Q&amp\;A session where they will try to answer everything you need to know.<br />\n<br />\n&nbsp\;
LOCATION:Webinar link - to be advised
UID:e.2751.2730
SEQUENCE:3
DTSTAMP:20260421T151728Z
URL:https://business.waikatochamber.co.nz/events/details/wwba-q-a-drop-in-session-10th-july-2730
END:VEVENT

END:VCALENDAR
