BEGIN:VCALENDAR
VERSION:2.0
PRODID:-//ChamberMaster//Event Calendar 2.0//EN
METHOD:PUBLISH
X-PUBLISHED-TTL:P3D
REFRESH-INTERVAL:P3D
CALSCALE:GREGORIAN
BEGIN:VEVENT
DTSTART:20171103T050000Z
DTEND:20171103T100000Z
X-MICROSOFT-CDO-ALLDAYEVENT:FALSE
SUMMARY:WWBA Gala Dinner 3rd November 2017
DESCRIPTION:The Waikato Chamber of Commerce is pleased to present to you the Westpac Waikato Business Awards 2017 Gala Dinner!\n\n\nTickets are no longer available to purchase online\, please contact Paula Sutton directly by email paula.sutton@waikatochamber.co.nz for any availability.
X-ALT-DESC;FMTTYPE=text/html:<h1><span style="font-size:14px\;">The Waikato Chamber of Commerce is pleased to present to you the Westpac Waikato Business Awards 2017 Gala Dinner!</span></h1>\n<br />\nTickets are no longer available to purchase online\, please contact Paula Sutton directly by email paula.sutton@waikatochamber.co.nz for any availability.
LOCATION:Claudelands Event Centre\, Hamilton Hamilton Taxis are generously offering to reduce all Tariff fares to and from the venue for this event. - Thank you Hamilton Taxis! To book your taxi in advance\, please contact 8460061.
UID:e.2751.1079
SEQUENCE:3
DTSTAMP:20260423T175111Z
URL:https://business.waikatochamber.co.nz/events/details/wwba-gala-dinner-3rd-november-2017-1079
END:VEVENT

END:VCALENDAR
