BEGIN:VCALENDAR
VERSION:2.0
PRODID:-//ChamberMaster//Event Calendar 2.0//EN
METHOD:PUBLISH
X-PUBLISHED-TTL:P3D
REFRESH-INTERVAL:P3D
CALSCALE:GREGORIAN
BEGIN:VEVENT
DTSTART:20220929T220000Z
DTEND:20220929T233000Z
X-MICROSOFT-CDO-ALLDAYEVENT:FALSE
SUMMARY:WWBA Finalist Video Preparation Workshop
DESCRIPTION:Finalists of this year's Waikato Business Awards supported by Foster Construction Group are encouraged to attend this video preparation workshop. \n\n\n\nBorden from INDx Media will help you to understand the basics of what's required in your finalist video. He'll be there to help stir up some ideas to help you get ready for the shooting day. \n\n\n\nWhy is this so important? It's your chance to make an impact on the audience at the gala dinner. You've got 30 seconds - make it count!
X-ALT-DESC;FMTTYPE=text/html:Finalists of this year&#39\;s Waikato Business Awards supported by Foster Construction Group are encouraged to attend this video preparation workshop.&nbsp\;<br />\n<br />\nBorden from INDx Media will help you to understand the basics of what&#39\;s required in your finalist video. He&#39\;ll be there to help stir up some ideas to help you get ready for the shooting day.&nbsp\;<br />\n<br />\nWhy is this so important? It&#39\;s your chance to make an impact on the audience at the gala dinner. You&#39\;ve got 30 seconds - make it count!
LOCATION:Events Room 2\, Gallagher Hub\, Wintec City Campus
UID:e.2751.3933
SEQUENCE:3
DTSTAMP:20260425T175645Z
URL:https://business.waikatochamber.co.nz/events/details/wwba-finalist-video-preparation-workshop-3933
END:VEVENT

END:VCALENDAR
