BEGIN:VCALENDAR
VERSION:2.0
PRODID:-//ChamberMaster//Event Calendar 2.0//EN
METHOD:PUBLISH
X-PUBLISHED-TTL:P3D
REFRESH-INTERVAL:P3D
CALSCALE:GREGORIAN
BEGIN:VEVENT
DTSTART:20190627T020000Z
DTEND:20190627T030000Z
X-MICROSOFT-CDO-ALLDAYEVENT:FALSE
SUMMARY:WWBA Entry Writing Workshop #2
DESCRIPTION:The entries for this year's Westpac Waikato Chamber Business Awards are now open. This season\, we will be running four workshops to help entrants through the entry process - covering what to write\, how to write it and what to include. \n\n\n\nThese workshops will be facilitated by Shelly Davies from Shelly Davies Writing and Training\, who will help you write a punchy and effective awards entry. We are offering four workshops\, you may attend just one or all four\, however we advise that you book in earlier rather than later.
X-ALT-DESC;FMTTYPE=text/html:The entries for this year&#39\;s Westpac Waikato Chamber Business Awards are now open. This season\, we will be running four workshops to help entrants through the entry process - covering what to write\, how to write it and what to include.&nbsp\;<br />\n<br />\nThese workshops will be facilitated by Shelly Davies from Shelly Davies Writing and Training\, who will help you write a punchy and effective awards entry. We are offering four workshops\, you may attend just one or all four\, however we advise that you book in earlier rather than later.
LOCATION:The Long Room\, Wintec House Wintec City Campus
UID:e.2751.2650
SEQUENCE:3
DTSTAMP:20260422T120342Z
URL:https://business.waikatochamber.co.nz/events/details/wwba-entry-writing-workshop-2-2650
END:VEVENT

END:VCALENDAR
