BEGIN:VCALENDAR
VERSION:2.0
PRODID:-//ChamberMaster//Event Calendar 2.0//EN
METHOD:PUBLISH
X-PUBLISHED-TTL:P3D
REFRESH-INTERVAL:P3D
CALSCALE:GREGORIAN
BEGIN:VEVENT
DTSTART:20170905T210000Z
DTEND:20170905T221500Z
X-MICROSOFT-CDO-ALLDAYEVENT:FALSE
SUMMARY:Women's Workshop Series 6 - Andrew 6/9/17
DESCRIPTION:This Workshop series contains 6 events run at the same time and location. The series has the over-arching theme of self-limiting beliefs and seeks to address this in a number of different ways.
X-ALT-DESC;FMTTYPE=text/html:This Workshop series contains 6 events run at the same time and location. The series has the over-arching theme of self-limiting beliefs and seeks to address this in a number of different ways.&nbsp\;
LOCATION:Gallagher Events Room 2\, Wintec Hub\, City Campus Please click here for your parking permit.
UID:e.2751.47
SEQUENCE:3
DTSTAMP:20260423T211327Z
URL:https://business.waikatochamber.co.nz/events/details/women-s-workshop-series-6-andrew-6-9-17-47
END:VEVENT

END:VCALENDAR
