BEGIN:VCALENDAR
VERSION:2.0
PRODID:-//ChamberMaster//Event Calendar 2.0//EN
METHOD:PUBLISH
X-PUBLISHED-TTL:P3D
REFRESH-INTERVAL:P3D
CALSCALE:GREGORIAN
BEGIN:VEVENT
DTSTART:20160726T220000Z
DTEND:20160726T230000Z
X-MICROSOFT-CDO-ALLDAYEVENT:FALSE
SUMMARY:Women's Power Hour with Sue Kohn-Taylor 27 July 2016
DESCRIPTION:
X-ALT-DESC;FMTTYPE=text/html:
LOCATION:Gallagher Events Room 2\, Wintec
UID:e.2751.3
SEQUENCE:3
DTSTAMP:20260424T193442Z
URL:https://business.waikatochamber.co.nz/events/details/women-s-power-hour-with-sue-kohn-taylor-27-july-2016-07-27-2016-3
END:VEVENT

END:VCALENDAR
