BEGIN:VCALENDAR
VERSION:2.0
PRODID:-//ChamberMaster//Event Calendar 2.0//EN
METHOD:PUBLISH
X-PUBLISHED-TTL:P3D
REFRESH-INTERVAL:P3D
CALSCALE:GREGORIAN
BEGIN:VEVENT
DTSTART:20161018T210000Z
DTEND:20161018T220000Z
X-MICROSOFT-CDO-ALLDAYEVENT:FALSE
SUMMARY:WIS: 2017 - Make it great!
DESCRIPTION:Make it great!  What do you really want from 2017 and how will you achieve it?\n\n \n\nEnd 2016 in a powerful and inspiring way by knowing exactly what you want from 2017!\n\n \n\nThe first key step to progress and success is knowing what you really want from the key areas in your life.  For most this is a difficult question and most people fail to achieve or gain what they really want?\n\n \n\nLet Sue Kohn-Taylor show you how to be motivated and inspired to go after what you want in 2017 and create fun and simple ways to make it happen.\n\n \n\nSome pre work will need to be done by you before attending the Power Hour so sign up now and start planning 2017.  Remember "You are your best investment"
X-ALT-DESC;FMTTYPE=text/html:Make it great! &nbsp\;What do you really want from 2017 and how will you achieve it?<br />\n&nbsp\;<br />\nEnd 2016 in a powerful and inspiring way by knowing exactly what you want from 2017!<br />\n&nbsp\;<br />\nThe first key step to progress and success is knowing what you really want from the key areas in your life.&nbsp\; For most this is a difficult question and most people fail to achieve or gain what they really want?<br />\n&nbsp\;<br />\nLet Sue Kohn-Taylor show you how to be motivated and inspired to go after what you want in 2017 and create fun and simple ways to make it happen.<br />\n&nbsp\;<br />\nSome pre work will need to be done by you before attending the Power Hour so sign up now and start planning 2017. &nbsp\;Remember&nbsp\;&ldquo\;You are your best investment&rdquo\;
LOCATION:Events Room 2\, Gallagher Hub\, Wintec House
UID:e.2751.24
SEQUENCE:3
DTSTAMP:20260424T154121Z
URL:https://business.waikatochamber.co.nz/events/details/wis-2017-make-it-great-24
END:VEVENT

END:VCALENDAR
