BEGIN:VCALENDAR
VERSION:2.0
PRODID:-//ChamberMaster//Event Calendar 2.0//EN
METHOD:PUBLISH
X-PUBLISHED-TTL:P3D
REFRESH-INTERVAL:P3D
CALSCALE:GREGORIAN
BEGIN:VEVENT
DTSTART:20190604T043000Z
DTEND:20190604T063000Z
X-MICROSOFT-CDO-ALLDAYEVENT:FALSE
SUMMARY:Westpac Waikato Chamber Business Awards Launch Event
DESCRIPTION:The Waikato Chamber of Commerce are excited to announce that the Westpac Waikato Chamber Business Awards are officially open. To kick off the season\, we are inviting you to join us for our official launch event as we announce the categories\, as well as hear from our previous award winners.
X-ALT-DESC;FMTTYPE=text/html:The Waikato Chamber of Commerce are excited to announce that the Westpac Waikato Chamber Business Awards are officially open. To kick off the season\, we are inviting you to join us for our official launch event as we announce the categories\, as well as hear from our previous award winners.
LOCATION:Novotel Tainui Alma Street\, Hamilton
UID:e.2751.2654
SEQUENCE:3
DTSTAMP:20260422T140608Z
URL:https://business.waikatochamber.co.nz/events/details/westpac-waikato-chamber-business-awards-launch-event-2654
END:VEVENT

END:VCALENDAR
