BEGIN:VCALENDAR
VERSION:2.0
PRODID:-//ChamberMaster//Event Calendar 2.0//EN
METHOD:PUBLISH
X-PUBLISHED-TTL:P3D
REFRESH-INTERVAL:P3D
CALSCALE:GREGORIAN
BEGIN:VEVENT
DTSTART:20161005T043000Z
DTEND:20161005T060000Z
X-MICROSOFT-CDO-ALLDAYEVENT:FALSE
SUMMARY:Westpac Waikato Business Awards Finalist Night
DESCRIPTION:The Waikato Chamber of Commerce is excited to be hosting the Finalist Announcement Evening on the 5th October. \n\n\n\nThis is an opportunity to come and find out who has made it as a Finalist for the Westpac Waikato Business Awards.\n\n\n\nThe Winners of the Micro Business of the Year and Not for Profit Categories will also be announced.
X-ALT-DESC;FMTTYPE=text/html:The Waikato Chamber of Commerce is&nbsp\;excited to be hosting the Finalist Announcement Evening on the 5th October.&nbsp\;<br />\n<br />\nThis is an opportunity to come and find out who has made it as a Finalist for the Westpac Waikato Business Awards.<br />\n<br />\nThe Winners of the Micro Business of the Year and Not for Profit Categories will also be announced.
LOCATION:FMG Stadium - Genesis Energy Lounge Gate 5\, 128 Seddon Road
UID:e.2751.22
SEQUENCE:3
DTSTAMP:20260424T155919Z
URL:https://business.waikatochamber.co.nz/events/details/westpac-waikato-business-awards-finalist-night-22
END:VEVENT

END:VCALENDAR
