BEGIN:VCALENDAR
VERSION:2.0
PRODID:-//ChamberMaster//Event Calendar 2.0//EN
METHOD:PUBLISH
X-PUBLISHED-TTL:P3D
REFRESH-INTERVAL:P3D
CALSCALE:GREGORIAN
BEGIN:VEVENT
DTSTART:20170920T053000Z
DTEND:20170920T073000Z
X-MICROSOFT-CDO-ALLDAYEVENT:FALSE
SUMMARY:Westpac Waikato Business Awards Finalist Announcement Evening
DESCRIPTION:Join us as we announce the finalists of this year's Westpac Waikato Business Awards.
X-ALT-DESC;FMTTYPE=text/html:Join us as we announce the finalists of this year&#39\;s Westpac Waikato Business Awards.
LOCATION:Gallagher Academy of Performing Arts\, University of Waikato Gate 1\, Knighton Road\, Hillcrest
UID:e.2751.70
SEQUENCE:3
DTSTAMP:20260423T211335Z
URL:https://business.waikatochamber.co.nz/events/details/westpac-waikato-business-awards-finalist-announcement-evening-70
END:VEVENT

END:VCALENDAR
