BEGIN:VCALENDAR
VERSION:2.0
PRODID:-//ChamberMaster//Event Calendar 2.0//EN
METHOD:PUBLISH
X-PUBLISHED-TTL:P3D
REFRESH-INTERVAL:P3D
CALSCALE:GREGORIAN
BEGIN:VEVENT
DTSTART:20200917T050000Z
DTEND:20200917T063000Z
X-MICROSOFT-CDO-ALLDAYEVENT:FALSE
SUMMARY:Westpac Business Awards Finalist Announcement 2020
DESCRIPTION:Join us as we announce the finalists of this year's Westpac Waikato Business Awards.\n\n\n\nSpaces are limited to 100 people\, please secure your space now if you will be attending \n\n\n\nCATEGORIES\n\n	Micro Business of the Year Award\n	Not for Profit Award\n	Innovation Award\n	Business Growth & Strategy Award\n	Service Excellence Award\n	Social & Environmental Sustainability\n	Marketing & Social Media Award\n	Community Contribution Award\n	Global Operator Award\n	Emerging Leader of the Year Award\n	CEO of the Year
X-ALT-DESC;FMTTYPE=text/html:Join us as we announce the finalists of this year&#39\;s Westpac Waikato Business Awards.<br />\n<br />\nSpaces are limited to 100 people\, please secure your space now if you will be attending&nbsp\;<br />\n<br />\n<strong><span style="font-family: &quot\;calibri light&quot\;\, sans-serif\;"><span style="font-size: 12pt\;">CATEGORIES</span></span></strong>\n<ul>\n	<li><span style="font-family: &quot\;calibri light&quot\;\, sans-serif\;">Micro Business of the Year Award</span></li>\n	<li><span style="font-family: &quot\;calibri light&quot\;\, sans-serif\;">Not for Profit Award</span></li>\n	<li><span style="font-family: &quot\;calibri light&quot\;\, sans-serif\;">Innovation Award</span></li>\n	<li><span style="font-family: &quot\;calibri light&quot\;\, sans-serif\;">Business Growth &amp\; Strategy Award</span></li>\n	<li><span style="font-family: &quot\;calibri light&quot\;\, sans-serif\;">Service Excellence Award</span></li>\n	<li><font face="calibri light\, sans-serif">Social &amp\; Environmental Sustainability</font></li>\n	<li><font face="calibri light\, sans-serif">Marketing &amp\; Social Media Award</font></li>\n	<li><span style="font-family: &quot\;calibri light&quot\;\, sans-serif\;">Community Contribution Award</span></li>\n	<li><span style="font-family: &quot\;calibri light&quot\;\, sans-serif\;">Global Operator Award</span></li>\n	<li><span style="font-family: &quot\;calibri light&quot\;\, sans-serif\;">Emerging Leader of the Year Award</span></li>\n	<li><span style="font-family: &quot\;calibri light&quot\;\, sans-serif\;">CEO of the Year</span></li>\n</ul>\n
LOCATION:The Atrium\, Wintec House
UID:e.2751.2760
SEQUENCE:3
DTSTAMP:20260421T132615Z
URL:https://business.waikatochamber.co.nz/events/details/westpac-business-awards-finalist-announcement-2020-2760
END:VEVENT

END:VCALENDAR
