BEGIN:VCALENDAR
VERSION:2.0
PRODID:-//ChamberMaster//Event Calendar 2.0//EN
METHOD:PUBLISH
X-PUBLISHED-TTL:P3D
REFRESH-INTERVAL:P3D
CALSCALE:GREGORIAN
BEGIN:VEVENT
DTSTART:20200430T233000Z
DTEND:20200501T003000Z
X-MICROSOFT-CDO-ALLDAYEVENT:FALSE
SUMMARY:Webinar with Warren Gatland - Head Coach for Gallagher Chiefs
DESCRIPTION:We invite you to join us for a conversation on Leadership with Warren Gatland\, Head Coach for Gallagher Chiefs.\n\n \n\nThe former Waikato Rugby Union head coach and Chiefs Rugby Club technical advisor has returned to New Zealand to take up the head coaching role for the Gallagher Chiefs after been at the helm of the Welsh national side since 2008. Gatland has been instrumental to the success of the Welsh national side during his tenure with an impressive record of four Six Nations Titles\, including three grand slams\, the most recent in 2019. \n\n\n\nHis ongoing success with Wales led to his appointment as head coach of the British & Irish Lions 2017 tour of New Zealand\, where they drew the Series against the All Blacks. Recently Gatland was announced as head coach for his third tour with the side in 2021 to South Africa.
X-ALT-DESC;FMTTYPE=text/html:<span style="color:#000000\;"><span style="font-size:14px\;"><span style="background:white\;">We invite you to join us for a conversation on Leadership with Warren Gatland\, Head Coach for Gallagher Chiefs.</span><br />\n&nbsp\;<br />\n<span style="background:white\;">The former Waikato Rugby Union head coach and Chiefs Rugby Club technical advisor has returned to New Zealand to take up the head coaching role for the Gallagher Chiefs after been at the helm of the Welsh national side since 2008. Gatland has been instrumental to the success of the Welsh national side during his tenure with an impressive record of four Six Nations Titles\, including three grand slams\, the most recent in 2019. </span><br />\n<br />\n<span style="background:white\;">His ongoing success with Wales led to his appointment as head coach of the British &amp\; Irish Lions 2017 tour of New Zealand\, where they drew the Series against the All Blacks. Recently Gatland was announced as head coach for his third tour with the side in 2021 to South Africa.</span></span></span>
LOCATION:Webinar - the link to join this webinar will be emailed with your confirmation email once registered.
UID:e.2751.2717
SEQUENCE:3
DTSTAMP:20260421T183505Z
URL:https://business.waikatochamber.co.nz/events/details/webinar-with-warren-gatland-head-coach-for-gallagher-chiefs-2717
END:VEVENT

END:VCALENDAR
