BEGIN:VCALENDAR
VERSION:2.0
PRODID:-//ChamberMaster//Event Calendar 2.0//EN
METHOD:PUBLISH
X-PUBLISHED-TTL:P3D
REFRESH-INTERVAL:P3D
CALSCALE:GREGORIAN
BEGIN:VEVENT
DTSTART:20200727T230000Z
DTEND:20200728T000000Z
X-MICROSOFT-CDO-ALLDAYEVENT:FALSE
SUMMARY:Webinar with Sir Steve Hansen
DESCRIPTION:Join us for a discussion with Sir Steve Hansen.\n\n\n\nFormer All Blacks coach\, he has navigated a top rugby team for many years through highs and lows.
X-ALT-DESC;FMTTYPE=text/html:Join us for a discussion with Sir Steve Hansen.<br />\n<br />\nFormer All Blacks coach\, he has navigated a top rugby team for many years through highs and lows.&nbsp\;
LOCATION:Webinar - the link will be shared in the registration confirmation email.
UID:e.2751.2753
SEQUENCE:3
DTSTAMP:20260421T164703Z
URL:https://business.waikatochamber.co.nz/events/details/webinar-with-sir-steve-hansen-2753
END:VEVENT

END:VCALENDAR
