BEGIN:VCALENDAR
VERSION:2.0
PRODID:-//ChamberMaster//Event Calendar 2.0//EN
METHOD:PUBLISH
X-PUBLISHED-TTL:P3D
REFRESH-INTERVAL:P3D
CALSCALE:GREGORIAN
BEGIN:VEVENT
DTSTART:20200721T230000Z
DTEND:20200722T000000Z
X-MICROSOFT-CDO-ALLDAYEVENT:FALSE
SUMMARY:Webinar with Geoff Simmons\, Leader of TOP Party
DESCRIPTION:Geoff Simmons\, leader of The Opportunities Party (TOP) will speak about TOP's priorities for the 2020 election and how they will support business. \n\n\n\nGeoff will cover Universal Basic Income\, Affordable Housing and Rent\, Smart Small Business and Climate Friendly Recovery. \n\n\n\nGeoff is an economist\, and in previous lives has written four books\, run his own business and been a manager in the public service. Geoff has spent his career searching for solutions to New Zealand's biggest problems such as the housing crisis and our environmental emergency. He has seen that the biggest barrier to fundamental change is lack of political will - politicians are too keen to keep their cushy jobs to risk trying anything new. Geoff is in politics to change that. He wants to provide New Zealanders with an option for real change that will create a truly prosperous and fair nation.
X-ALT-DESC;FMTTYPE=text/html:Geoff Simmons\, leader of The Opportunities Party (TOP) will speak about TOP&#39\;s priorities for the 2020 election and how they will support business.&nbsp\;<br />\n<br />\nGeoff will cover Universal Basic Income\, Affordable Housing and Rent\, Smart Small Business and Climate Friendly Recovery.&nbsp\;<br />\n<br />\nGeoff is an economist\, and in previous lives has written four books\, run his own business and been a manager in the public service. Geoff has spent his career searching for solutions to New Zealand&#39\;s biggest problems such as the housing crisis and our environmental emergency. He has seen that the biggest barrier to fundamental change is lack of political will - politicians are too keen to keep their cushy jobs to risk trying anything new. Geoff is in politics to change that. He wants to provide New Zealanders with an option for real change that will create a truly prosperous and fair nation.<br />\n&nbsp\;
LOCATION:Webinar - the link to join this webinar will be shared in your registration confirmation email.
UID:e.2751.2752
SEQUENCE:3
DTSTAMP:20260421T165118Z
URL:https://business.waikatochamber.co.nz/events/details/webinar-with-geoff-simmons-leader-of-top-party-2752
END:VEVENT

END:VCALENDAR
