BEGIN:VCALENDAR
VERSION:2.0
PRODID:-//ChamberMaster//Event Calendar 2.0//EN
METHOD:PUBLISH
X-PUBLISHED-TTL:P3D
REFRESH-INTERVAL:P3D
CALSCALE:GREGORIAN
BEGIN:VEVENT
DTSTART:20200702T220000Z
DTEND:20200702T230000Z
X-MICROSOFT-CDO-ALLDAYEVENT:FALSE
SUMMARY:Webinar with Dominick Stephens\, Chief Economist for Westpac
DESCRIPTION:Dominick started his career at the Reserve Bank of New Zealand\, where he was involved in forecasting and modelling the New Zealand economy. Dominick joined Westpac as a Senior Economist in 2006\, and became Chief Economist in 2011. His most well-known research concerns the roles of taxation\, interest rates and inflation on the New Zealand housing market. He has also published research on the exchange rate\, New Zealand's labour market\, and macroeconomic modelling. Dominick's travels include crossing Mongolia on horseback\, riding 1000 miles down the Peruvian Andes\, and a year spent in the Amazon jungle
X-ALT-DESC;FMTTYPE=text/html:Dominick started his career at the Reserve Bank of New Zealand\, where he was involved in forecasting and modelling the New Zealand economy. Dominick joined Westpac as a Senior Economist in 2006\, and became Chief Economist in 2011. His most well-known research concerns the roles of taxation\, interest rates and inflation on the New Zealand housing market. He has also published research on the exchange rate\, New Zealand&rsquo\;s labour market\, and macroeconomic modelling. Dominick&rsquo\;s travels include crossing Mongolia on horseback\, riding 1000 miles down the Peruvian Andes\, and a year spent in the Amazon jungle
LOCATION:Webinar - the link to join this webinar will be shared in your registration confirmation email
UID:e.2751.2739
SEQUENCE:3
DTSTAMP:20260421T152740Z
URL:https://business.waikatochamber.co.nz/events/details/webinar-with-dominick-stephens-chief-economist-for-westpac-2739
END:VEVENT

END:VCALENDAR
