BEGIN:VCALENDAR
VERSION:2.0
PRODID:-//ChamberMaster//Event Calendar 2.0//EN
METHOD:PUBLISH
X-PUBLISHED-TTL:P3D
REFRESH-INTERVAL:P3D
CALSCALE:GREGORIAN
BEGIN:VEVENT
DTSTART:20200703T010000Z
DTEND:20200703T020000Z
X-MICROSOFT-CDO-ALLDAYEVENT:FALSE
SUMMARY:Webinar with David Seymour\, ACT Party leader
DESCRIPTION:New Zealand briefly celebrated its COVID eradication success\, but its recent return tells us the world has changed\, permanently. COVID-19 will likely circle the world for years to come. Even then we have to consider the possibility of new strains of COVID\, or a completely new virus\, creating a permanent state of pandemic.\n\n \n\nSo\, how can we achieve resilience in a post-COVID world? Telling everyone to stay home and closing the borders is economically and fiscally unsustainable\, but what it the alternative? ACT Leader David Seymour will argue the Government of New Zealand can and must perform better if New Zealand is to prosper in this new world. It must be better at providing public health\, setting the rules of the game\, and engaging private sector solutions while getting back onto a sustainable fiscal track as soon as possible. ACT's 5-point plan shows how.
X-ALT-DESC;FMTTYPE=text/html:New Zealand briefly celebrated its COVID eradication success\, but its recent return tells us the world has changed\, permanently. COVID-19 will likely circle the world for years to come. Even then we have to consider the possibility of new strains of COVID\, or a completely new virus\, creating a permanent state of pandemic.<br />\n&nbsp\;<br />\nSo\, how can we achieve resilience in a post-COVID world? Telling everyone to stay home and closing the borders is economically and fiscally unsustainable\, but what it the alternative? ACT Leader David Seymour will argue the Government of New Zealand can and must perform better if New Zealand is to prosper in this new world. It must be better at providing public health\, setting the rules of the game\, and engaging private sector solutions while getting back onto a sustainable fiscal track as soon as possible. ACT&rsquo\;s 5-point plan shows how.
LOCATION:Webinar - the link will be sent with the registration confirmation email
UID:e.2751.2744
SEQUENCE:3
DTSTAMP:20260421T164855Z
URL:https://business.waikatochamber.co.nz/events/details/webinar-with-david-seymour-act-party-leader-2744
END:VEVENT

END:VCALENDAR
