BEGIN:VCALENDAR
VERSION:2.0
PRODID:-//ChamberMaster//Event Calendar 2.0//EN
METHOD:PUBLISH
X-PUBLISHED-TTL:P3D
REFRESH-INTERVAL:P3D
CALSCALE:GREGORIAN
BEGIN:VEVENT
DTSTART:20200811T230000Z
DTEND:20200812T000000Z
X-MICROSOFT-CDO-ALLDAYEVENT:FALSE
SUMMARY:Webinar: Running your business efficiently with Xero
DESCRIPTION:POSTPONED \n\n\n\nHayden has worked in the world of accounting for a number of years\, starting at his father 's accounting practice in Hawkes Bay and then moving up to Auckland where he worked for Deloitte as a tax and private consultant for a number of years completing his Chartered Accountancy.\n\n \n\nSince joining Xero almost four years ago\, Hayden has had a number of different roles where he has worked as a partner consultant providing technical training to Accounting firms across New Zealand\, then moving into a role as a Senior Account Manager for the Waikato\, Auckland and Taranaki regions. Hayden now heads up a team of account managers and partner consultants that service the Bay of Plenty\, Waikato\, Taranaki and Auckland regions.
X-ALT-DESC;FMTTYPE=text/html:POSTPONED&nbsp\;<br />\n<br />\nHayden has worked in the world of accounting for a number of years\, starting at his father &rsquo\;s accounting practice in Hawkes Bay and then moving up to Auckland where he worked for Deloitte as a tax and private consultant for a number of years completing his Chartered Accountancy.<br />\n&nbsp\;<br />\nSince joining Xero almost four years ago\, Hayden has had a number of different roles where he has worked as a partner consultant providing technical training to Accounting firms across New Zealand\, then moving into a role as a Senior Account Manager for the Waikato\, Auckland and Taranaki regions. Hayden now heads up a team of account managers and partner consultants that service the Bay of Plenty\, Waikato\, Taranaki and Auckland regions.&nbsp\;
LOCATION:Webinar - the link to join will be sent with your registration confirmation email
UID:e.2751.2754
SEQUENCE:3
DTSTAMP:20260421T132345Z
URL:https://business.waikatochamber.co.nz/events/details/webinar-running-your-business-efficiently-with-xero-2754
END:VEVENT

END:VCALENDAR
