BEGIN:VCALENDAR
VERSION:2.0
PRODID:-//ChamberMaster//Event Calendar 2.0//EN
METHOD:PUBLISH
X-PUBLISHED-TTL:P3D
REFRESH-INTERVAL:P3D
CALSCALE:GREGORIAN
BEGIN:VEVENT
DTSTART:20220214T233000Z
DTEND:20220215T000000Z
X-MICROSOFT-CDO-ALLDAYEVENT:FALSE
SUMMARY:Webinar: Leadership and Management Style- No.1 reason why employees leave
DESCRIPTION:ADVERTISEMENT BY EVEREST\n\n\n\nHave you heard the saying "People leave managers\, not companies"?  Leadership and management within your business is fundamentally important to the every day experience of your team.  That doesn't mean there is one perfect way to 'do' management\, it does mean it needs your attention.  Poor management significantly contributes to the costs associated with staff turnover\, not just in the direct costs of recruitment\, but also in the reputation of your workplace and your ability to find new people in this very tight labour market.\n\n \n\nPanelists- Jean Schoultz and Meredith MacKenzie
X-ALT-DESC;FMTTYPE=text/html:<div>\n<div style="margin-left:auto\; margin-right:auto">\n<div style="margin-left:auto\; margin-right:auto">\n<div style="margin-left:-15px\; margin-right:-15px">\n<div>\n<p><u><strong>ADVERTISEMENT BY EVEREST</strong></u><br />\n<br />\nHave you heard the saying &ldquo\;People leave managers\, not companies&rdquo\;?&nbsp\; Leadership and management within your business is fundamentally important to the every day experience of your team.&nbsp\; That doesn&rsquo\;t mean there is one perfect way to &lsquo\;do&rsquo\; management\, it does mean it needs your attention.&nbsp\; Poor management significantly contributes to the costs associated with staff turnover\, not just in the direct costs of recruitment\, but also in the reputation of your workplace and your ability to find new people in this very tight labour market.</p>\n\n<p>&nbsp\;</p>\n\n<p>Panelists- Jean Schoultz and Meredith MacKenzie</p>\n</div>\n</div>\n</div>\n</div>\n</div>\n\n<div style="margin-left:auto\; margin-right:auto">\n<div style="margin-left:-15px\; margin-right:-15px">\n<div>\n<div>\n<div style="margin-left:-15px\; margin-right:-15px">\n<div>&nbsp\;</div>\n</div>\n</div>\n</div>\n</div>\n</div>\n
LOCATION:Zoom- link will be sent prior to the workshop
UID:e.2751.3624
SEQUENCE:3
DTSTAMP:20260424T033652Z
URL:https://business.waikatochamber.co.nz/events/details/webinar-leadership-and-management-style-no-1-reason-why-employees-leave-3624
END:VEVENT

END:VCALENDAR
