BEGIN:VCALENDAR
VERSION:2.0
PRODID:-//ChamberMaster//Event Calendar 2.0//EN
METHOD:PUBLISH
X-PUBLISHED-TTL:P3D
REFRESH-INTERVAL:P3D
CALSCALE:GREGORIAN
BEGIN:VEVENT
DTSTART:20220816T003000Z
DTEND:20220816T010000Z
X-MICROSOFT-CDO-ALLDAYEVENT:FALSE
SUMMARY:Webinar: Conflict Management
DESCRIPTION:Panelists: Jean Schoultz and Meredith MacKenzie Conflict in the workplace is difficult. Each person involved sees the situation from their own vantage point\, and it can be like looking in opposite directions from two different mountains. Conflict also affects the rest of the team\, and is a big drain on management time. Join us as we discuss ways to address conflict\, the issues to consider\, where to seek support and how the process might unfold.
X-ALT-DESC;FMTTYPE=text/html:Panelists: Jean Schoultz and Meredith MacKenzie Conflict in the workplace is difficult. Each person involved sees the situation from their own vantage point\, and it can be like looking in opposite directions from two different mountains. Conflict also affects the rest of the team\, and is a big drain on management time. Join us as we discuss ways to address conflict\, the issues to consider\, where to seek support and how the process might unfold.
LOCATION:Online
UID:e.2751.3926
SEQUENCE:3
DTSTAMP:20260425T163319Z
URL:https://business.waikatochamber.co.nz/events/details/webinar-conflict-management-3926
END:VEVENT

END:VCALENDAR
