BEGIN:VCALENDAR
VERSION:2.0
PRODID:-//ChamberMaster//Event Calendar 2.0//EN
METHOD:PUBLISH
X-PUBLISHED-TTL:P3D
REFRESH-INTERVAL:P3D
CALSCALE:GREGORIAN
BEGIN:VEVENT
DTSTART:20161025T043000Z
DTEND:20161025T060000Z
X-MICROSOFT-CDO-ALLDAYEVENT:FALSE
SUMMARY:WCoC ANNUAL GENERAL MEETING
DESCRIPTION:The Annual General Meeting will commence at 5.30pm and all members are encouraged to attend. \n\n\n\nJoin us at the 2016 Waikato Chamber of Commerce Annual General Meeting.\n\n\n\nNOTE: If a member wishes to raise an item of general business for discussion at the AGM\, then the nature of such business and the form of resolution affirming such business needs to have been received in writing by the Chamber no later than 5.00pm Thursday 13 October 2016.
X-ALT-DESC;FMTTYPE=text/html:The Annual General Meeting will commence at 5.30pm and all members are encouraged to attend.&nbsp\;<br />\n<br />\nJoin us at the 2016 Waikato Chamber of Commerce Annual General Meeting.<br />\n<br />\nNOTE: If a member wishes to raise an item of general business for discussion at the AGM\, then the nature of such business and the form of resolution affirming such business&nbsp\;needs to have&nbsp\;been&nbsp\;received in writing by the Chamber no later than 5.00pm&nbsp\;Thursday 13 October 2016.
LOCATION:The Long Room 2\, Wintec House
UID:e.2751.21
SEQUENCE:3
DTSTAMP:20260424T154457Z
URL:https://business.waikatochamber.co.nz/events/details/wcoc-annual-general-meeting-21
END:VEVENT

END:VCALENDAR
