BEGIN:VCALENDAR
VERSION:2.0
PRODID:-//ChamberMaster//Event Calendar 2.0//EN
METHOD:PUBLISH
X-PUBLISHED-TTL:P3D
REFRESH-INTERVAL:P3D
CALSCALE:GREGORIAN
BEGIN:VEVENT
DTSTART:20190514T000000Z
DTEND:20190514T010000Z
X-MICROSOFT-CDO-ALLDAYEVENT:FALSE
SUMMARY:Waikato Youth Chamber info meeting
DESCRIPTION:Do you want to help shape the future of business in the Waikato?\n\nWe want to connect youth of our region to businesses\, using our seven core purposes. To drive this\, we're seeking help from our members. What does this look like? We will be providing information relevant to youth in business\, and to provide training and networking opportunities.\n\n\n\nThe Waikato Chamber of Commerce are accepting expressions of interest from those who would like to be part of our next project. We will be hosting an information session in mid May\; if you would like more information on what's involved\, send your details to Kirstie via kirstie.dawson-smith@waikatochamber.co.nz
X-ALT-DESC;FMTTYPE=text/html:<h3>Do you want to help shape the future of business in the Waikato?</h3>\n\n<p>We want to connect youth of our region to businesses\, using our seven core purposes. To drive this\, we&#39\;re seeking help from our members. What does this look like? We will be providing information relevant to youth in business\, and to provide training and networking opportunities.<br />\n<br />\nThe Waikato Chamber of Commerce are accepting expressions of interest from those who would like to be part of our next project. We will be hosting an information session in mid May\; if you would like more information on what&#39\;s involved\, send your details to Kirstie via <a href="mailto:kirstie.dawson-smith@waikatochamber.co.nz?subject=Youth%20Chamber%20project" target="_blank">kirstie.dawson-smith@waikatochamber.co.nz</a></p>\n
LOCATION:Waikato Chamber Boardroom Level 2\, Wintec House
UID:e.2751.2644
SEQUENCE:3
DTSTAMP:20260422T155422Z
URL:https://business.waikatochamber.co.nz/events/details/waikato-youth-chamber-info-meeting-2644
END:VEVENT

END:VCALENDAR
