BEGIN:VCALENDAR
VERSION:2.0
PRODID:-//ChamberMaster//Event Calendar 2.0//EN
METHOD:PUBLISH
X-PUBLISHED-TTL:P3D
REFRESH-INTERVAL:P3D
CALSCALE:GREGORIAN
BEGIN:VEVENT
DTSTART:20171019T190000Z
DTEND:20171019T200000Z
X-MICROSOFT-CDO-ALLDAYEVENT:FALSE
SUMMARY:Waikato Regional Theatre - Business Leaders Breakfast
DESCRIPTION:Momentum Waikato and the Waikato Regional Theatre team invite you to join us to hear from Andy Hayles\, Charcoalblue London's Managing Partner. Andy has worked on several well-known theatre projects over his career and we are delighted to have him join us to discuss the opportunities the Waikato Regional Theatre project presents. International theatre design consultants Charcoalblue have worked with the Waikato Regional Theatre Governance Panel to produce the recommendations and feasibility report for the project\, and will soon be starting the design concept phase of the project.\n\n \n\nPlease join us to hear about progress on the project to-date\, and to gain some insight to the transformation this project could bring to our city and our region. This event is supported/promoted by Waikato Chamber of Commerce\, Hamilton Central Business Association and Hamilton & Waikato Tourism\, and is open to members of these organisations.
X-ALT-DESC;FMTTYPE=text/html:Momentum Waikato and the Waikato Regional Theatre team invite you to join us to hear from Andy Hayles\, Charcoalblue London&rsquo\;s Managing Partner. Andy has worked on several well-known theatre projects over his career and we are delighted to have him join us to discuss the opportunities the Waikato Regional Theatre project presents. International theatre design consultants Charcoalblue have worked with the Waikato Regional Theatre Governance Panel to produce the recommendations and feasibility report for the project\, and will soon be starting the design concept phase of the project.<br />\n&nbsp\;<br />\nPlease join us to hear about progress on the project to-date\, and to gain some insight to the transformation this project could bring to our city and our region.&nbsp\;This event is supported/promoted by Waikato Chamber of Commerce\, Hamilton Central Business Association and Hamilton &amp\; Waikato Tourism\, and is open to members of these organisations.
LOCATION:The Atrium\, Wintec City Campus
UID:e.2751.1085
SEQUENCE:3
DTSTAMP:20260423T195216Z
URL:https://business.waikatochamber.co.nz/events/details/waikato-regional-theatre-business-leaders-breakfast-1085
END:VEVENT

END:VCALENDAR
