BEGIN:VCALENDAR
VERSION:2.0
PRODID:-//ChamberMaster//Event Calendar 2.0//EN
METHOD:PUBLISH
X-PUBLISHED-TTL:P3D
REFRESH-INTERVAL:P3D
CALSCALE:GREGORIAN
BEGIN:VEVENT
DTSTART:20231117T043000Z
DTEND:20231117T103000Z
X-MICROSOFT-CDO-ALLDAYEVENT:FALSE
SUMMARY:Waikato Chamber of Commerce Business Awards 2023
DESCRIPTION:The event is now at capacity - please add your name to the waiting list and we will be in touch if there are any cancellations.  \n\n\n\nWe are pleased to present to you the Waikato Chamber Business Awards 2023 Gala Dinner supported by Foster Construction Group!\n\n\n\nBe part of the excitement as we announce the winners of this year's prestigious black-tie gala dinner and awards ceremony.
X-ALT-DESC;FMTTYPE=text/html:<strong>The event is now at capacity - please add your name to the waiting list and we will be in touch if there are any cancellations.&nbsp\;&nbsp\;</strong><br />\n<br />\nWe are pleased to present to you the <a href="https://www.waikatochamber.co.nz/business-awards-2023/" target="_blank">Waikato Chamber Business Awards 2023</a> Gala Dinner supported by Foster Construction Group!<br />\n<br />\nBe part of the excitement as we announce the winners of this year&#39\;s prestigious black-tie gala dinner and awards ceremony.<br />\n<br />\n&nbsp\;
LOCATION:Claudelands Event Centre\, Hamilton
UID:e.2751.4219
SEQUENCE:3
DTSTAMP:20260420T132658Z
URL:https://business.waikatochamber.co.nz/events/details/waikato-chamber-of-commerce-business-awards-2023-4219
END:VEVENT

END:VCALENDAR
