BEGIN:VCALENDAR
VERSION:2.0
PRODID:-//ChamberMaster//Event Calendar 2.0//EN
METHOD:PUBLISH
X-PUBLISHED-TTL:P3D
REFRESH-INTERVAL:P3D
CALSCALE:GREGORIAN
BEGIN:VEVENT
DTSTART:20181023T040000Z
DTEND:20181023T060000Z
X-MICROSOFT-CDO-ALLDAYEVENT:FALSE
SUMMARY:Waikato Chamber of Commerce AGM 2018
DESCRIPTION:The Annual General Meeting will commence at 5.30pm and all members are encouraged to attend. \n\nJoin us at the 2018 Waikato Chamber of Commerce Annual General Meeting.\n\nRegistrations essential.  Register online or email help@waikatochamber.co.nz\n\nNOTE: If a member wishes to raise an item of general business for discussion at the AGM\, then the nature of such business and the form of resolution affirming such business needs to have been received in writing by the Chamber no later than 5.00pm Thursday 11 October 2018.
X-ALT-DESC;FMTTYPE=text/html:<p><strong>The Annual General Meeting will commence at 5.30pm and all members are encouraged to attend.&nbsp\;</strong></p>\n\n<p>Join us at the 2018&nbsp\;Waikato Chamber of Commerce Annual General Meeting.</p>\n\n<p>Registrations essential.&nbsp\; Register online or email&nbsp\;<a href="mailto:help@waikatochamber.co.nz?subject=WCOC%20Website%20Enquiry%3A%20AGM">help@waikatochamber.co.nz</a></p>\n\n<p>NOTE: If a member wishes to raise an item of general business for discussion at the AGM\, then the nature of such business and the form of resolution affirming such business&nbsp\;needs to have&nbsp\;been&nbsp\;received in writing by the Chamber no later than 5.00pm&nbsp\;Thursday 11&nbsp\;October 2018.</p>\n
LOCATION:Ventura Inn and Suites 23 Clarence Street\, Hamilton
UID:e.2751.2605
SEQUENCE:3
DTSTAMP:20260423T022309Z
URL:https://business.waikatochamber.co.nz/events/details/waikato-chamber-of-commerce-agm-2018-2605
END:VEVENT

END:VCALENDAR
