BEGIN:VCALENDAR
VERSION:2.0
PRODID:-//ChamberMaster//Event Calendar 2.0//EN
METHOD:PUBLISH
X-PUBLISHED-TTL:P3D
REFRESH-INTERVAL:P3D
CALSCALE:GREGORIAN
BEGIN:VEVENT
DTSTART:20220927T040000Z
DTEND:20220927T053000Z
X-MICROSOFT-CDO-ALLDAYEVENT:FALSE
SUMMARY:Waikato Chamber Hamilton City Mayoral Debate: Business Meets the Candidates
DESCRIPTION:The Waikato Chamber of Commerce wants to provide the business community with the chance to hear directly from the leading Mayoral candidates and ask them the questions they want answers to.\n\n \n\nThe 2022 Waikato Chamber Hamilton City Mayoral Debate: Business Meets the Candidates event will take place on September 27th at 5pm at Wintec.\n\n\n\nRegister using the link above to hear from Paula Southgate\, Geoff Taylor and Riki Manarangi on what their future vision for the city is. If you are not a member of the Chamber but are in the business community and would like to attend\, email Liam.
X-ALT-DESC;FMTTYPE=text/html:<p><br />\n<span style="font-size:16px\;">The Waikato Chamber of Commerce wants to provide the business community with the chance to hear directly from the leading Mayoral candidates and ask them the questions they want answers to.<br />\n&nbsp\;<br />\nThe 2022 Waikato Chamber Hamilton City Mayoral Debate: Business Meets the Candidates&nbsp\;event will take place on September 27th at 5pm at Wintec.<br />\n<br />\nRegister using the link above to hear from Paula Southgate\, Geoff Taylor and Riki Manarangi on what their future vision for the city is. If you are not a member of the Chamber but are in the business community and would like to attend\, email <a href="mailto:Liam.Rodden@waikatochamber.co.nz">Liam</a>.</span></p>\n
LOCATION:Events Room 1\, Gallagher Hub\, Wintec city campus
UID:e.2751.3929
SEQUENCE:3
DTSTAMP:20260425T181327Z
URL:https://business.waikatochamber.co.nz/events/details/waikato-chamber-hamilton-city-mayoral-debate-business-meets-the-candidates-3929
END:VEVENT

END:VCALENDAR
