BEGIN:VCALENDAR
VERSION:2.0
PRODID:-//ChamberMaster//Event Calendar 2.0//EN
METHOD:PUBLISH
X-PUBLISHED-TTL:P3D
REFRESH-INTERVAL:P3D
CALSCALE:GREGORIAN
BEGIN:VEVENT
DTSTART;VALUE=DATE:20220907
DTEND;VALUE=DATE:20220908
TRANSP:TRANSPARENT
X-MICROSOFT-CDO-ALLDAYEVENT:TRUE
SUMMARY:Waikato Business Growth & Support Virtual Conference
DESCRIPTION:The Waikato Business Growth and Support Virtual Conference is being held from the 6-8 September.\n\n\n\nRegister for the Waikato Chamber of Commerce's session on Wednesday 7th September from 1:00-1:30pm here to find out more about the work we do in the region.  And find out more about the conference and register for other sessions here.
X-ALT-DESC;FMTTYPE=text/html:The Waikato Business Growth and Support Virtual Conference is being held from the 6-8 September.<br />\n<br />\nRegister for the Waikato Chamber of Commerce&#39\;s session on Wednesday 7th September from 1:00-1:30pm&nbsp\;<a href="https://zoom.us/webinar/register/WN_97IPTiQhS_a-M1mq8pT8hA?fbclid=IwAR0O1o4I1KkRykGaKOzxIGqskdZ_N3_e2L1kVocLa-z2FiCT9OqwG50phB4">here</a>&nbsp\;to find out more about the work we do in the region.&nbsp\; And find out more about the conference and register for other sessions <a href="https://sites.google.com/digitalboost.co.nz/waikatobusinessconference/home">here</a>.
LOCATION:Online\, find out more and register here.
UID:e.2751.3935
SEQUENCE:3
DTSTAMP:20260425T180206Z
URL:https://business.waikatochamber.co.nz/events/details/waikato-business-growth-support-virtual-conference-3935
END:VEVENT

END:VCALENDAR
