BEGIN:VCALENDAR
VERSION:2.0
PRODID:-//ChamberMaster//Event Calendar 2.0//EN
METHOD:PUBLISH
X-PUBLISHED-TTL:P3D
REFRESH-INTERVAL:P3D
CALSCALE:GREGORIAN
BEGIN:VEVENT
DTSTART:20210625T030000Z
DTEND:20210625T043000Z
X-MICROSOFT-CDO-ALLDAYEVENT:FALSE
SUMMARY:Waikato Business Awards Launch Event
DESCRIPTION:The Waikato Chamber of Commerce are excited to announce that the Business Awards for 2021 are officially open. To celebrate and welcome our new sponsor Foster Construction Group\, we are inviting you to come share in a toast to mark this new milestone and partnership.  While there\, take this opportunity to chat with the team including Head Judge Dr Heather Connolly about how to enter and why its an essential growing tool for your business. Past winners will also be there so take the opportunity and learn from their experiences.\n\n \n\nCome and feel the excitement these awards hold!\n\n \n\nRegistrations essential!
X-ALT-DESC;FMTTYPE=text/html:<p><span style="font-size:16px\;">The Waikato Chamber of Commerce are excited to announce that the Business Awards for 2021 are officially open. To celebrate and welcome our new sponsor Foster Construction Group\, we are inviting you to come share in a toast to mark this new milestone and partnership.&nbsp\; While there\, take this opportunity to chat with the team including Head Judge Dr Heather Connolly about how&nbsp\;to enter and why its an essential growing tool for your business. Past winners will also be there so take the opportunity and learn from their experiences.<br />\n&nbsp\;<br />\nCome and feel the excitement these awards hold!<br />\n&nbsp\;<br />\nRegistrations essential!</span></p>\n
LOCATION:Foster Construction Office\, 181 Arthur Porter Driver\, Te Rapa Park\, Hamilton
UID:e.2751.2824
SEQUENCE:3
DTSTAMP:20260426T041223Z
URL:https://business.waikatochamber.co.nz/events/details/waikato-business-awards-launch-event-2824
END:VEVENT

END:VCALENDAR
