BEGIN:VCALENDAR
VERSION:2.0
PRODID:-//ChamberMaster//Event Calendar 2.0//EN
METHOD:PUBLISH
X-PUBLISHED-TTL:P3D
REFRESH-INTERVAL:P3D
CALSCALE:GREGORIAN
BEGIN:VEVENT
DTSTART:20210304T203000Z
DTEND:20210304T220000Z
X-MICROSOFT-CDO-ALLDAYEVENT:FALSE
SUMMARY:Virtual Economic Update with Brad Olsen
DESCRIPTION:Join us as we welcome Brad Olsen via Zoom to discuss the economy. This event is sponsored by Asset Recruitment.  \n\n\n\nThe New Zealand economy continues to adjust to COVID-19 pandemic\, even as 2021 continues with greater optimism with contained community transmissions\, vaccines inbound\, and a more resilient economy. Although the New Zealand economy has performed well throughout the pandemic\, it has still suffered a considerable hit\, and regions are feeling this hit differently as local economic structures and support help determine the pathway ahead. As New Zealand looks towards the economic recovery phase of the pandemic\, Kiwis are changing how we do work\, where we work from\, and who we interact with.\n\n \n\nInfometrics Senior Economist and Director Brad Olsen will outline the Infometrics economic outlook for the year ahead\, how Waikato has responded\, and what this means going forward.
X-ALT-DESC;FMTTYPE=text/html:Join us as we welcome Brad Olsen via Zoom to discuss the economy. This event is sponsored by Asset Recruitment.&nbsp\;&nbsp\;<br />\n<br />\nThe New Zealand economy continues to adjust to COVID-19 pandemic\, even as 2021 continues with greater optimism with contained community transmissions\, vaccines inbound\, and a more resilient economy. Although the New Zealand economy has performed well throughout the pandemic\, it has still suffered a considerable hit\, and regions are feeling this hit differently as local economic structures and support help determine the pathway ahead. As New Zealand looks towards the economic recovery phase of the pandemic\, Kiwis are changing how we do work\, where we work from\, and who we interact with.<br />\n&nbsp\;<br />\nInfometrics Senior Economist and Director Brad Olsen will outline the Infometrics economic outlook for the year ahead\, how Waikato has responded\, and what this means going forward.
LOCATION:This event will now be a webinar
UID:e.2751.2791
SEQUENCE:3
DTSTAMP:20260426T000924Z
URL:https://business.waikatochamber.co.nz/events/details/virtual-economic-update-with-brad-olsen-2791
END:VEVENT

END:VCALENDAR
