BEGIN:VCALENDAR
VERSION:2.0
PRODID:-//ChamberMaster//Event Calendar 2.0//EN
METHOD:PUBLISH
X-PUBLISHED-TTL:P3D
REFRESH-INTERVAL:P3D
CALSCALE:GREGORIAN
BEGIN:VEVENT
DTSTART:20180712T221500Z
DTEND:20180712T234500Z
X-MICROSOFT-CDO-ALLDAYEVENT:FALSE
SUMMARY:Tim Macindoe: Monthly Forum
DESCRIPTION:You are warmly invited to attend Tim Macindoe's Monthly Forum.\n\nDate: Friday 13th July 2018\n\n\n\nGuest Speaker is Matt Doocey MP for Waimakariri\, Junior Whip and Mental Health Spokesperson.\n\nWhere: Caf  Agora\, 13b Kent Street\, Frankton\n\nTime: 10.15am to 11.30am\n\nA hot drink and muffin is available for $5 (includes a donation to the Caf 's selected charity of the month).\n\nThis is your opportunity to discuss topical issues with your MP and his guest. No RSVP is required.\n\nAuthorised by Hon Tim Macindoe MP\, 543 Te Rapa Rd\, Hamilton\n\nhttp://www.national.org.nz/
X-ALT-DESC;FMTTYPE=text/html:<p><span style="color:rgb(51\, 51\, 51)\; font-family:helvetica\,sans-serif">You are warmly invited to attend Tim Macindoe&#39\;s Monthly Forum.</span></p>\n\n<p><span style="color:rgb(51\, 51\, 51)\; font-family:helvetica\,sans-serif"><strong>Date: </strong><span style="font-family:helvetica\,sans-serif">Friday 13th July&nbsp\;2018</span><br />\n<br />\n<span style="color:rgb(51\, 51\, 51)\; font-family:helvetica\,sans-serif">Guest Speaker is&nbsp\;<strong><span style="font-family:helvetica\,sans-serif">Matt Doocey </span></strong>MP for Waimakariri\, Junior Whip and Mental Health Spokesperson.</span></span></p>\n\n<p><strong><span style="color:rgb(51\, 51\, 51)\; font-family:helvetica\,sans-serif">Where: </span></strong><span style="color:rgb(51\, 51\, 51)\; font-family:helvetica\,sans-serif">Caf&eacute\; Agora\, 13b Kent Street\, Frankton<br />\n<strong><span style="font-family:helvetica\,sans-serif">Time:</span></strong> 10.15am to 11.30am</span></p>\n\n<p><span style="color:rgb(51\, 51\, 51)\; font-family:helvetica\,sans-serif">A hot drink and muffin is available for $5&nbsp\;(includes a donation to the Caf&eacute\;&rsquo\;s selected charity of the month).</span></p>\n\n<p><span style="color:rgb(51\, 51\, 51)\; font-family:helvetica\,sans-serif">This is your opportunity to discuss topical issues with your MP and his guest. No RSVP is required.</span></p>\n\n<p><span style="color:rgb(51\, 51\, 51)\; font-family:helvetica\,sans-serif">Authorised by Hon Tim Macindoe MP\, 543 Te Rapa Rd\, Hamilton<br />\n<span style="color:rgb(51\, 51\, 51)\; font-family:helvetica\,sans-serif"><a href="http://www.national.org.nz/?e=9390c9acffa132d07c2299c773333752&amp\;utm_source=nationalparty&amp\;utm_medium=email&amp\;utm_campaign=macindoeforum_july18correction&amp\;n=1">http://www.national.org.nz/</a></span></span></p>\n
LOCATION:
UID:e.2751.2587
SEQUENCE:3
DTSTAMP:20260423T050544Z
URL:https://business.waikatochamber.co.nz/events/details/tim-macindoe-monthly-forum-2587
END:VEVENT

END:VCALENDAR
