BEGIN:VCALENDAR
VERSION:2.0
PRODID:-//ChamberMaster//Event Calendar 2.0//EN
METHOD:PUBLISH
X-PUBLISHED-TTL:P3D
REFRESH-INTERVAL:P3D
CALSCALE:GREGORIAN
BEGIN:VEVENT
DTSTART:20171031T050000Z
DTEND:20171031T063000Z
X-MICROSOFT-CDO-ALLDAYEVENT:FALSE
SUMMARY:The workforce of the future: Unpacking the generational divide
DESCRIPTION:Different work habits.\n\nDifferent values.\n\nDifferent lifestyles.\n\n \n\nThe millennials are entering the workforce and are shaking up the status quo.\n\n \n\nIt's time we understood this generational divide and figure out how\, through collaboration\, workplace design\, culture and process we can create the workforce of the future.\n\n \n\nJoin us as we talk to some of the experts and bring all generations into the one room to discuss.\n\n \n\nCorene Walker\n\nUnpack the generational differences by looking through a practical and psychological lens. Corene will unearth some of the differences between the generations and provide context to some of the commonly misunderstood traits of both generations\, before offering industry examples of proven strategies that deliver the most effective collaboration. \n\n \n\nBernard Powell\n\nDesign a workplace that works for everyone. Using his award-winning experience\, Bernard will outline how to design and develop a workplace\, including the systems\, environment\, culture\, processes and programs\, that best initiates intergenerational collaboration and understanding. \n\n \n\nLet's make sure we will succeed together!\n\n\n\nProudly sponsored by The Success Group
X-ALT-DESC;FMTTYPE=text/html:<em><span style="color:black\;"><span style="font-size:10.5pt\;">Different work habits.</span></span></em><br />\n<em><span style="color:black\;"><span style="font-size:10.5pt\;">Different values.</span></span></em><br />\n<em><span style="color:black\;"><span style="font-size:10.5pt\;">Different lifestyles.</span></span></em><br />\n&nbsp\;<br />\n<em><span style="color:black\;"><span style="font-size:10.5pt\;">The millennials are entering the workforce and are shaking up the status quo.</span></span></em><br />\n&nbsp\;<br />\n<em><span style="color:black\;"><span style="font-size:10.5pt\;">It&rsquo\;s time we understood this generational divide and figure out how\, through collaboration\, workplace design\, culture and process we can create the workforce of the future.</span></span></em><br />\n&nbsp\;<br />\n<em><span style="color:black\;"><span style="font-size:10.5pt\;">Join us as we talk to some of the experts and bring all generations into the one room to discuss.</span></span></em><br />\n&nbsp\;<br />\n<em><span style="color:black\;"><span style="font-size:10.5pt\;">Corene Walker</span></span></em><br />\n<em><span style="color:black\;"><span style="font-size:10.5pt\;">Unpack the generational differences by looking through a practical and psychological lens. Corene will unearth some of the differences between the generations and provide context to some of the commonly misunderstood traits of both generations\, before offering industry examples of proven strategies that deliver the most effective collaboration.&nbsp\;</span></span></em><br />\n&nbsp\;<br />\n<em><span style="color:black\;"><span style="font-size:10.5pt\;">Bernard Powell</span></span></em><br />\n<em><span style="color:black\;"><span style="font-size:10.5pt\;">Design a workplace that works for everyone. Using his award-winning experience\, Bernard will outline how to design and develop a workplace\, including the systems\, environment\, culture\, processes and programs\, that best initiates intergenerational collaboration and understanding.&nbsp\;</span></span></em><br />\n&nbsp\;<br />\n<em><span style="color:black\;"><span style="font-size:10.5pt\;">Let&rsquo\;s make sure we will succeed together!<br />\n<br />\nProudly sponsored by The Success Group</span></span></em>
LOCATION:The Don Waikato University Gate 3B Silverdale Road Hamilton (Behind the University tennis courts)
UID:e.2751.1084
SEQUENCE:3
DTSTAMP:20260423T211354Z
URL:https://business.waikatochamber.co.nz/events/details/the-workforce-of-the-future-unpacking-the-generational-divide-1084
END:VEVENT

END:VCALENDAR
