BEGIN:VCALENDAR
VERSION:2.0
PRODID:-//ChamberMaster//Event Calendar 2.0//EN
METHOD:PUBLISH
X-PUBLISHED-TTL:P3D
REFRESH-INTERVAL:P3D
CALSCALE:GREGORIAN
BEGIN:VEVENT
DTSTART:20180213T043000Z
DTEND:20180213T060000Z
X-MICROSOFT-CDO-ALLDAYEVENT:FALSE
SUMMARY:The Villager - Welcome Back!
DESCRIPTION:WE'RE INVITING YOU TO JOIN US FOR A NIGHT OF TOP NOTCH NETWORKING\n\n\n\nWe invite ALL members and non-members to join us for our facilitated networking event. In this event\, you will be welcomed to The Village and participate in an activity that will get you up and talking to other like-minded business people. \n\n\n\nThis Villager will also include new and exciting insight into what is coming up in the Tron and the Chamber for the first season of 2018\, the "Welcome back" season. \n\n\n\nIn a city of only 150 thousand people\, the reality is\, doing business here relies as much on who you know as what you know. If you are looking to expand your networks\, meet others in a facilitated welcoming environment\, and find out more about the Waikato Chamber of Commerce can help you\, this event is for you.
X-ALT-DESC;FMTTYPE=text/html:<strong>WE'RE INVITING YOU TO JOIN US FOR A NIGHT OF TOP NOTCH NETWORKING</strong><br>\n<br>\nWe invite ALL members and non-members to join us for our facilitated networking event. In this event\, you will be welcomed to The Village and participate in an activity that will get you up and talking to other like-minded business people.&nbsp\;<br>\n<br>\nThis Villager will also include new and exciting insight into what is coming up in the Tron and the Chamber for the first season of 2018\, the "Welcome back" season.&nbsp\;<br>\n<br>\n<em>In a city of only 150 thousand people\, the reality is\, doing business here relies&nbsp\;as much on who you know as what you know.&nbsp\;If you are looking to expand your networks\, meet others in a facilitated welcoming environment\, and find out more about the Waikato Chamber of Commerce can help you\, this event is for you.</em>
LOCATION:Cucina\, 7 Thackeray Street\, Hamilton
UID:e.2751.1100
SEQUENCE:3
DTSTAMP:20260423T124748Z
URL:https://business.waikatochamber.co.nz/events/details/the-villager-welcome-back-1100
END:VEVENT

END:VCALENDAR
