BEGIN:VCALENDAR
VERSION:2.0
PRODID:-//ChamberMaster//Event Calendar 2.0//EN
METHOD:PUBLISH
X-PUBLISHED-TTL:P3D
REFRESH-INTERVAL:P3D
CALSCALE:GREGORIAN
BEGIN:VEVENT
DTSTART:20170803T053000Z
DTEND:20170803T070000Z
X-MICROSOFT-CDO-ALLDAYEVENT:FALSE
SUMMARY:The Villager: The Sweet As Life
DESCRIPTION:We welcome all members\, new and old for an evening of networking with special guest Bill Neal\, founder of Sweet As Popcorn.\n\n\n\nWe have Bill back by popular demand! Bring along questions and your networking cap - as Bill has a heap of knowledge and stories to share with you all.
X-ALT-DESC;FMTTYPE=text/html:We welcome all members\, new and old for an evening of networking with special guest Bill Neal\, founder of Sweet As Popcorn.<br />\n<br />\nWe have Bill back by popular demand! Bring along questions and your networking cap - as Bill has a heap of knowledge and stories to share with you all.&nbsp\;
LOCATION:Fonda Latina\, Garden Place\, Hamilton CBD
UID:e.2751.63
SEQUENCE:3
DTSTAMP:20260423T224744Z
URL:https://business.waikatochamber.co.nz/events/details/the-villager-the-sweet-as-life-63
END:VEVENT

END:VCALENDAR
