BEGIN:VCALENDAR
VERSION:2.0
PRODID:-//ChamberMaster//Event Calendar 2.0//EN
METHOD:PUBLISH
X-PUBLISHED-TTL:P3D
REFRESH-INTERVAL:P3D
CALSCALE:GREGORIAN
BEGIN:VEVENT
DTSTART:20180529T053000Z
DTEND:20180529T073000Z
X-MICROSOFT-CDO-ALLDAYEVENT:FALSE
SUMMARY:The Villager: Round Two
DESCRIPTION:WE'RE INVITING YOU TO JOIN US FOR A NIGHT OF TOP NOTCH NETWORKING\n\n\n\nWe invite ALL members and non-members to join us for our facilitated networking event. In this event\, you will be welcomed to The Village and participate in an activity that will get you up and talking to other like-minded business people. \n\n\n\nThis Villager will also include new and exciting insight into what is coming up in Hamilton and the Chamber for the second season of 2018\, the "Round Two" season. We're mixing it up and hosting it over at The Eatery & Keg Room over in Rototuna. Our guest speaker will be Kelvyn Eglinton\, CEO of Momentum Waikato Community Foundation.\n\n\n\nIn a city of only 150 thousand people\, the reality is\, doing business here relies as much on who you know as what you know. If you are looking to expand your networks\, meet others in a facilitated welcoming environment\, and find out more about the Waikato Chamber of Commerce can help you\, this event is for you.\n\n\n\nAbout Kelvyn...\n\nPrevious to this role he was the General Manager of City Growth for Hamilton City Council. Under this portfolio Kelvyn was responsible for 164 staff across seven units.  Prior to his stint in local government Kelvyn was the Chief of Staff in the Jakarta office for Newmont Mining Corporation\, the world's second largest gold mining company.  From Jakarta Kelvyn oversaw the government relations and renegotiation of the contract of work with the Government of Indonesia and the social responsibility programmes of the operation on Sumbawa Island which employed a 7000 strong workforce.  After Jakarta and 5 years prior based in Perth as Asia Pacific Manager for External Affairs overseeing government\, media\, communications and social responsibility programmes across 5 countries\, Kelvyn returned home with his family excited by the opportunity that Hamilton presents particularly in his role where Momentum Waikato views philanthropy as thoughtful giving   the philosophy being that we seek to make significant investments to change agents who will make disruptive change and positive impact to issues that are important to society Kelvyn...
X-ALT-DESC;FMTTYPE=text/html:<strong>WE&#39\;RE INVITING YOU TO JOIN US FOR A NIGHT OF TOP NOTCH NETWORKING</strong><br />\n<br />\nWe invite ALL members and non-members to join us for our facilitated networking event. In this event\, you will be welcomed to The Village and participate in an activity that will get you up and talking to other like-minded business people.&nbsp\;<br />\n<br />\nThis Villager will also include new and exciting insight into what is coming up in Hamilton and the Chamber for the second season of 2018\, the &quot\;Round Two&quot\; season. We&#39\;re mixing it up and hosting it over at The Eatery &amp\; Keg Room over in Rototuna. Our guest speaker will be&nbsp\;<strong>Kelvyn Eglinton</strong>\, CEO of Momentum Waikato Community Foundation.<br />\n<br />\n<em>In a city of only 150 thousand people\, the reality is\, doing business here relies&nbsp\;as much on who you know as what you know.&nbsp\;If you are looking to expand your networks\, meet others in a facilitated welcoming environment\, and find out more about the Waikato Chamber of Commerce can help you\, this event is for you.</em><br />\n<br />\n<b>About Kelvyn...</b><br />\nPrevious to this role he was the General Manager of City Growth for Hamilton City Council. Under this portfolio&nbsp\;Kelvyn&nbsp\;was responsible for 164 staff across seven units. &nbsp\;Prior to his stint in local government&nbsp\;Kelvyn&nbsp\;was the Chief of Staff in the Jakarta office for&nbsp\;Newmont&nbsp\;Mining Corporation\, the world&rsquo\;s second largest gold mining company.&nbsp\; From Jakarta&nbsp\;Kelvyn&nbsp\;oversaw the government relations and renegotiation of the contract of work with the Government of Indonesia&nbsp\;and the social responsibility&nbsp\;programmes&nbsp\;of the operation on Sumbawa Island which employed a 7000 strong workforce.&nbsp\; After Jakarta and 5 years prior based in Perth as&nbsp\;Asia Pacific Manager for External Affairs overseeing government\, media\, communications and social responsibility&nbsp\;programmes&nbsp\;across 5 countries\,&nbsp\;Kelvyn&nbsp\;returned home with his family excited by the opportunity that Hamilton presents particularly in his role where Momentum Waikato views philanthropy as thoughtful giving &ndash\; the philosophy being that we seek to make significant investments to change agents who will make disruptive change and positive impact to issues that are important to society&nbsp\;Kelvyn...&nbsp\;
LOCATION:The Eatery & The Keg Room\, Horsham Downs Road\, Rototuna
UID:e.2751.2306
SEQUENCE:3
DTSTAMP:20260423T081014Z
URL:https://business.waikatochamber.co.nz/events/details/the-villager-round-two-2306
END:VEVENT

END:VCALENDAR
