BEGIN:VCALENDAR
VERSION:2.0
PRODID:-//ChamberMaster//Event Calendar 2.0//EN
METHOD:PUBLISH
X-PUBLISHED-TTL:P3D
REFRESH-INTERVAL:P3D
CALSCALE:GREGORIAN
BEGIN:VEVENT
DTSTART:20170209T040000Z
DTEND:20170209T063000Z
X-MICROSOFT-CDO-ALLDAYEVENT:FALSE
SUMMARY:The Villager
DESCRIPTION:We invite ALL members to join us in welcoming the NEW members who have joined in the last several months at a special facilitated networking event. New members will get the chance to meet the Chamber team and other seasoned  Chamber members.
X-ALT-DESC;FMTTYPE=text/html:We invite ALL members to join us in welcoming the NEW members who have joined in the last several months at a special facilitated networking event. New members will get the chance to meet the Chamber team and other seasoned &nbsp\;Chamber members.<br />\n&nbsp\;
LOCATION:Dough Bros 250 Victoria St\, Hamilton CBD
UID:e.2751.29
SEQUENCE:3
DTSTAMP:20260424T091615Z
URL:https://business.waikatochamber.co.nz/events/details/the-villager-29
END:VEVENT

END:VCALENDAR
