BEGIN:VCALENDAR
VERSION:2.0
PRODID:-//ChamberMaster//Event Calendar 2.0//EN
METHOD:PUBLISH
X-PUBLISHED-TTL:P3D
REFRESH-INTERVAL:P3D
CALSCALE:GREGORIAN
BEGIN:VEVENT
DTSTART:20170412T053000Z
DTEND:20170412T073000Z
X-MICROSOFT-CDO-ALLDAYEVENT:FALSE
SUMMARY:The Villager 12 April
DESCRIPTION:We invite ALL members and non-members to join us for our facilitated networking event. In this event\, you will be welcomed to The Village and participate in an activity that will get you up and talking to other likeminded business people. \n\nIn a city of only 150 thousand people\, the reality is\, doing business here relies as much on who you know as what you know. If you are looking to expand your networks\, meet others in a facilitated welcoming environment\, and find out more about the Waikato Chamber of Commerce can help you\, this event is for you.
X-ALT-DESC;FMTTYPE=text/html:We invite ALL members and non-members to join us for our facilitated networking event. In this event\, you will be welcomed to The Village and participate in an activity that will get you up and talking to other likeminded business people.&nbsp\;<br />\nIn a city of only 150 thousand people\, the reality is\, doing business here relies&nbsp\;as much on who you know as what you know.&nbsp\;If you are looking to expand your networks\, meet others in a facilitated welcoming environment\, and find out more about the Waikato Chamber of Commerce can help you\, this event is for you.
LOCATION:Robert Harris\, 593 Te Rapa Rd\, Te Rapa\, Hamilton 3200
UID:e.2751.38
SEQUENCE:3
DTSTAMP:20260424T052734Z
URL:https://business.waikatochamber.co.nz/events/details/the-villager-12-april-38
END:VEVENT

END:VCALENDAR
