BEGIN:VCALENDAR
VERSION:2.0
PRODID:-//ChamberMaster//Event Calendar 2.0//EN
METHOD:PUBLISH
X-PUBLISHED-TTL:P3D
REFRESH-INTERVAL:P3D
CALSCALE:GREGORIAN
BEGIN:VEVENT
DTSTART:20170502T053000Z
DTEND:20170502T073000Z
X-MICROSOFT-CDO-ALLDAYEVENT:FALSE
SUMMARY:The Red Sofa - Inside Waikato Innovation "What I would do if i were you?"
DESCRIPTION:Come and join some of the Waikato's most successful entrepreneurs and business leaders on the Red Sofa as they lead discussions on innovation and answer questions on what they would do if they were you\, in a Q&A format.\n\n Innovation doesn't always come in forms of mass disruption\, in most cases it comes through little changes here and there to a sales pitch\, a proposal\, a design\, a strategy or a product. \n\n Come and learn what our business leaders and Entrepreneurs would do if they were you.
X-ALT-DESC;FMTTYPE=text/html:<h5 class="font_5"><span style="font-size:14px\;"><span class="color_15">Come and join some of the Waikato&#39\;s most successful&nbsp\;entrepreneurs&nbsp\;and business leaders on the Red Sofa as they lead discussions on innovation and answer questions on what they would do if they were you\, in a Q&amp\;A format.</span></span></h5>\n\n<h5 class="font_5"><span style="font-size:14px\;"><span class="color_15"><span class="wixGuard">&#8203\;</span></span></span><span style="font-size:14px\;"><span class="color_15">Innovation doesn&#39\;t&nbsp\;always come in forms of mass disruption\,&nbsp\;in most cases it comes through little changes here and there to a sales pitch\, a proposal\, a design\, a strategy or a product.&nbsp\;</span></span></h5>\n\n<h5 class="font_5"><span style="font-size:14px\;"><span class="color_15"><span class="wixGuard">&#8203\;</span></span><span class="color_15">Come and learn what our business leaders and Entrepreneurs would do if they were you.</span></span></h5>\n
LOCATION:Events Room 1 Wintec\, Hamilton CBD Hamilton 3204
UID:e.2751.42
SEQUENCE:3
DTSTAMP:20260424T034024Z
URL:https://business.waikatochamber.co.nz/events/details/the-red-sofa-inside-waikato-innovation-what-i-would-do-if-i-were-you-42
END:VEVENT

END:VCALENDAR
