BEGIN:VCALENDAR
VERSION:2.0
PRODID:-//ChamberMaster//Event Calendar 2.0//EN
METHOD:PUBLISH
X-PUBLISHED-TTL:P3D
REFRESH-INTERVAL:P3D
CALSCALE:GREGORIAN
BEGIN:VEVENT
DTSTART:20180322T043000Z
DTEND:20180322T063000Z
X-MICROSOFT-CDO-ALLDAYEVENT:FALSE
SUMMARY:The Red Sofa: "I'll see it when I believe it"
DESCRIPTION:Yes\, you heard it right! We have a Project Director from the Alibaba Group\, the Owner of Stark Property and an official partner of Justin Bieber coming down to H-TOWN for a chat with William at our next Red Sofa\, so lock in the 22nd of March and join us.\n\n\n\nSo many times we have heard entrepreneurs and business leaders say that success comes to those who have vision! Rather than seeing it before they believe it\, but believing it before they see it.\n\n\n\nThis Red Sofa\, our visionary panel include:\n\n\n\nKen Freer - A Project Director with the Alibaba Group\n\nKen is an absolute marketing mogul with skills parallel to the world's best! He has massive experience growing businesses and brands which has landed him in a much coveted spot working alongside the Alibaba Group\, who are taking the world by storm! Flying out on special Alibaba business just a week after the Red Sofa\, Ken is spear-heading a project with Christchurch Airport that will allow small business owners around NZ to attract more Chinese tourists and also sell their products back to China! If you haven't heard of Aliexpress\, don't worry\, Ken's got us with Kiwi-express. A booming trend and topic of discussion - come get the 411 from the master himself.\n\n\n\nMatt Stark - Owner and Founder of Stark Property\n\nWith making "Hamilton cool" as his mission\, Matt has taken to the streets and placed oversized statements around town to achieve his goal! He has a dream to transform this City into a destination and he is well on track to achieving his vision\, his ability to project a vision and then achieve it is second to none\, he believes the key to grabbing the dream is found in the details. \n\n\n\nJared Leith - Owner and Founder of Taktix Film official partners of Justin Bieber \n\nJared followed the beaten path right up to leaving University nine years ago\, since then he has been helping companies capture their visions and sharing it as a story! He has grown from a lone wolf to 5 man wolf pack and together they have devoured some massive projects both nation wide and around the world\, he has worked with names like Parris Gobel and the Royal Family\, PSY\, Bebe Rexha\, Justin Bieber and more!\n\n\n\nWe can't wait for this one and couldn't ask for a better start to another amazing series.\n\n\n\nCash bar operating\, nibbles will be provided.\n\nSee you there
X-ALT-DESC;FMTTYPE=text/html:<p><span style="font-family:calibri\,sans-serif\;"><span style="font-size:11.0pt\;">Yes\, you heard it right! We have a Project Director from the&nbsp\;Alibaba&nbsp\;Group\, the Owner of Stark Property and an official partner&nbsp\;of Justin Bieber coming down to H-TOWN for a chat with William at our next Red Sofa\, so lock in the 22<sup>nd</sup> of March and join us.<br />\n<br />\nSo many times we have heard entrepreneurs and business leaders say that success comes to those who have vision! Rather than seeing it before they believe it\, but believing it before they&nbsp\;see it.<br />\n<br />\nThis Red Sofa\, our visionary panel include:<br />\n<br />\n<strong>Ken Freer - A Project Director with the Alibaba&nbsp\;Group</strong><br />\nKen is an absolute marketing mogul with skills parallel to the world&rsquo\;s best! He has massive experience growing businesses and brands which has landed him in a much coveted spot working alongside the Alibaba Group\, who are taking the world by storm! Flying out on special Alibaba business just a week after the Red Sofa\, Ken is spear-heading a project with Christchurch Airport that will allow small business owners around NZ to attract more Chinese tourists and also sell their products back to China! If you haven&rsquo\;t heard of Aliexpress\, don&rsquo\;t worry\, Ken&#39\;s got us with Kiwi-express. A booming trend and topic of discussion - come get the 411 from the master himself.<br />\n<br />\n<strong>Matt Stark - Owner and Founder of Stark&nbsp\;Property</strong><br />\nWith making &quot\;Hamilton cool&quot\; as his mission\, Matt has taken to the streets and placed oversized statements around town to achieve his goal! He has a dream to transform this City into a destination and he is well on track to achieving his vision\, his ability to project a vision and then achieve it is second to none\, he believes the key to grabbing the dream is found in the details.&nbsp\;<br />\n<br />\n<strong>Jared Leith - Owner and Founder of Taktix&nbsp\;Film official partners of Justin Bieber</strong></span></span><span style="font-family:calibri\,sans-serif\;"><span style="font-size:11.0pt\;"><strong>&#8203\;</strong><br />\nJared followed the beaten path right up to leaving University nine&nbsp\;years ago\, since then he has been helping companies capture their visions and sharing it as a story! He has grown from a lone wolf to 5 man wolf pack&nbsp\;and together they have devoured&nbsp\;some massive projects both nation wide and around the world\, he has worked with names like Parris Gobel and the Royal Family\, PSY\, Bebe Rexha\,&nbsp\;Justin Bieber&nbsp\;and more!</span></span><br />\n<br />\nWe can&#39\;t wait for this one and couldn&#39\;t ask for a better start to another amazing series.<br />\n<br />\nCash bar operating\, nibbles will be provided.<br />\nSee you there</p>\n
LOCATION:Wintec\, Gallagher Events Room 1
UID:e.2751.1242
SEQUENCE:3
DTSTAMP:20260423T111432Z
URL:https://business.waikatochamber.co.nz/events/details/the-red-sofa-i-ll-see-it-when-i-believe-it-1242
END:VEVENT

END:VCALENDAR
