BEGIN:VCALENDAR
VERSION:2.0
PRODID:-//ChamberMaster//Event Calendar 2.0//EN
METHOD:PUBLISH
X-PUBLISHED-TTL:P3D
REFRESH-INTERVAL:P3D
CALSCALE:GREGORIAN
BEGIN:VEVENT
DTSTART:20170727T053000Z
DTEND:20170727T073000Z
X-MICROSOFT-CDO-ALLDAYEVENT:FALSE
SUMMARY:The Red Sofa: "How to Build a Tribe" - A movement alone but a force together
DESCRIPTION:Red Sofa: "How to build a Tribe   A movement alone but a force together"\n\nA Tribe: An audience\, a group of followers or a community of devoted fans - Eliminate negative relationships and build a tribe that love your story\, vision and brand. This Red Sofa will focus on helping you\, find\, build and use your Tribe to power onwards and upwards.
X-ALT-DESC;FMTTYPE=text/html:<p><font face="Calibri" size="3">Red Sofa: &ldquo\;How to build a Tribe &ndash\; A movement alone but a force together&rdquo\;</font></p>\n\n<p>A Tribe: An audience\, a group of followers or a community of devoted fans - Eliminate negative relationships and build a <u><strong>tribe</strong></u>&nbsp\;that love your story\, vision and brand. This Red Sofa will focus on helping you\, find\, build and use your Tribe to power onwards and upwards.</p>\n
LOCATION:Events Room 1\, Wintec\, City Campus
UID:e.2751.53
SEQUENCE:3
DTSTAMP:20260424T000639Z
URL:https://business.waikatochamber.co.nz/events/details/the-red-sofa-how-to-build-a-tribe-a-movement-alone-but-a-force-together-53
END:VEVENT

END:VCALENDAR
