BEGIN:VCALENDAR
VERSION:2.0
PRODID:-//ChamberMaster//Event Calendar 2.0//EN
METHOD:PUBLISH
X-PUBLISHED-TTL:P3D
REFRESH-INTERVAL:P3D
CALSCALE:GREGORIAN
BEGIN:VEVENT
DTSTART:20170216T043000Z
DTEND:20170216T063000Z
X-MICROSOFT-CDO-ALLDAYEVENT:FALSE
SUMMARY:The Red Sofa - From Shed to Shop
DESCRIPTION:From Shed to Shop -The Red Sofa\, a new Chamber event structure\, patterned after the Graham Norton show where we will interview experts of specific industries and ask the REAL questions on "How to". This event will leave business owners inspired to continue to build their business and instructed on how\, by taking practical ideas from the experts.\n\nThe first "Red Sofa" is labelled "From Shed to Shop" where we will interview some of Waikato's most successful people in business about their journey from their "Shed" to the "Shop". Our goal is to uncover the "warts and all" of what it takes to achieve higher levels of success. You will hear some of their greatest achievements and their journey\, including the challenges they faced.
X-ALT-DESC;FMTTYPE=text/html:<p>From Shed to Shop -The Red Sofa\, a new Chamber event structure\, patterned after the Graham Norton show where we will interview experts of specific industries and ask the REAL questions on &ldquo\;How to&rdquo\;. This event will leave business owners inspired to continue to build their business and instructed on how\, by taking practical ideas from the experts.</p>\n\n<p>The first &ldquo\;Red Sofa&rdquo\; is labelled &ldquo\;From Shed to Shop&rdquo\; where we will interview some of Waikato&rsquo\;s most successful people in business about their journey from their &ldquo\;Shed&rdquo\; to the &ldquo\;Shop&rdquo\;. Our goal is to uncover the &ldquo\;warts and all&rdquo\; of what it takes to achieve higher levels of success. You will hear some of their greatest achievements and their journey\, including the challenges they faced.</p>\n
LOCATION:Wintec City Campus\, Events Room 1
UID:e.2751.32
SEQUENCE:3
DTSTAMP:20260424T091635Z
URL:https://business.waikatochamber.co.nz/events/details/the-red-sofa-from-shed-to-shop-32
END:VEVENT

END:VCALENDAR
