BEGIN:VCALENDAR
VERSION:2.0
PRODID:-//ChamberMaster//Event Calendar 2.0//EN
METHOD:PUBLISH
X-PUBLISHED-TTL:P3D
REFRESH-INTERVAL:P3D
CALSCALE:GREGORIAN
BEGIN:VEVENT
DTSTART:20170928T050000Z
DTEND:20170928T063000Z
X-MICROSOFT-CDO-ALLDAYEVENT:FALSE
SUMMARY:The Red Sofa: A league of extraordinary women - " Emerge a Champion " Powered by Asset Recruitment
DESCRIPTION:Move over William there's a new MC in town!\n\nThere's a huge range of powerhouse women out there in the Waikato\, who have done an extraordinary amount of good that we want to recognise and celebrate.\n\nTo do so we are kicking William off the hot seat and have decorated the red sofa with a panel of extraordinary women\, who have broken the mould in business and in life\, put up with the struggles and have emerged as Champions.\n\nThis Red Sofa is a time for extraordinary women to come connect and be inspire by some of Waikato's best.\n\nThis event is for all women!  For the professional working women as well as those currently not active in the workforce who share the desire to develop.\n\nOur panel on extraordinary women will bare all\, share their good and bad fortunes leaving no topic off limits!!\n\nComplimentary drink and nibbles available on arrival.
X-ALT-DESC;FMTTYPE=text/html:<h1><span style="font-size:14px\;">Move over William there&rsquo\;s a new MC in town!</span></h1>\n\n<p>There&rsquo\;s a huge range of powerhouse women out there in the Waikato\, who have done an extraordinary amount of good that we want to recognise and celebrate.</p>\n\n<p>To do so we are kicking William off the hot seat and have decorated the red sofa with a panel of extraordinary women\, who have broken the mould in business and in life\, put up with the struggles and have emerged as Champions.</p>\n\n<p>This Red Sofa is a time for extraordinary women to come connect and be inspire by some of Waikato&rsquo\;s best.</p>\n\n<p>This event is for all women! &nbsp\;For the professional working women as well as those currently not active in the workforce who share the desire to develop.</p>\n\n<p>Our panel on extraordinary women will bare all\, share their good and bad fortunes leaving no topic off limits!!</p>\n\n<p>Complimentary drink and nibbles available on arrival.</p>\n
LOCATION:Wintec\, Atrium.
UID:e.2751.73
SEQUENCE:3
DTSTAMP:20260423T211516Z
URL:https://business.waikatochamber.co.nz/events/details/the-red-sofa-a-league-of-extraordinary-women-emerge-a-champion-powered-by-asset-recruitment-73
END:VEVENT

END:VCALENDAR
