BEGIN:VCALENDAR
VERSION:2.0
PRODID:-//ChamberMaster//Event Calendar 2.0//EN
METHOD:PUBLISH
X-PUBLISHED-TTL:P3D
REFRESH-INTERVAL:P3D
CALSCALE:GREGORIAN
BEGIN:VEVENT
DTSTART:20220809T050000Z
DTEND:20220809T061500Z
X-MICROSOFT-CDO-ALLDAYEVENT:FALSE
SUMMARY:The New Zealand Infrastructure Strategy
DESCRIPTION:The Waikato Chamber of Commerce and Hamilton City Council invite you to hear about the NZ Infrastructure Strategy\, presented by Ross Copland\, Chief Executive\, New Zealand Infrastructure Commission | Te Waihanga.\n\n\n\nFormat of the event:\n\nOfficial welcome by Lance Vervoort\, HCC Chief Executive and Don Good\, Waikato Chamber of Commerce\, Chief Executive\n\nIntroduction from Hamilton Mayor Paula Southgate\n\nPresentation by Ross Copland\, Chief Executive\, New Zealand Infrastructure Commission | Te Waihanga.\n\nAudience Q & A  \n\n\n\nRoss Copland has a background in the design\, procurement\, financing\, and delivery of infrastructure as an engineer\, an asset manager and a Chief Executive. He has worked in commercial construction and property on both sides of the Tasman\, finishing up as National Operations Manager for Westfield in 2013.  He returned to New Zealand to pursue a career developing tourism infrastructure. Ross holds a Bachelor of Civil Engineering with First Class Honours\, a Bachelor of Commerce and an MBA.
X-ALT-DESC;FMTTYPE=text/html:<span style="font-size:14px\;"><span style="font-family:arial\;">The Waikato Chamber of Commerce and Hamilton City Council&nbsp\;invite you to hear about the NZ Infrastructure Strategy\, presented by Ross Copland\, Chief Executive\, New Zealand Infrastructure Commission | Te Waihanga.<br />\n<br />\nFormat of the event:<br />\nOfficial welcome by Lance Vervoort\, HCC Chief Executive and Don Good\, Waikato Chamber of Commerce\, Chief Executive<br />\nIntroduction from Hamilton Mayor Paula Southgate<br />\nPresentation by Ross Copland\,&nbsp\;</span></span><span style="font-family: arial\; font-size: 14px\; background-color: rgb(255\, 255\, 255)\;">Chief Executive\, New Zealand Infrastructure Commission | Te Waihanga.</span><br />\n<span style="font-size:14px\;"><span style="font-family:arial\;">Audience Q &amp\; A&nbsp\;&nbsp\;<br />\n<br />\n<em>Ross Copland&nbsp\;has a background in the design\, procurement\, financing\, and delivery of infrastructure as an engineer\, an asset manager and a Chief Executive. He has worked in commercial construction and property on both sides of the Tasman\, finishing up as National Operations Manager for Westfield in 2013.&nbsp\; He returned to New Zealand to pursue a career developing tourism infrastructure.&nbsp\;Ross holds a Bachelor of Civil Engineering with First Class Honours\, a Bachelor of Commerce and an MBA.&nbsp\;&nbsp\;</em></span></span>
LOCATION:Events Room 1 Wintec City Campus
UID:e.2751.3915
SEQUENCE:3
DTSTAMP:20260425T180329Z
URL:https://business.waikatochamber.co.nz/events/details/the-new-zealand-infrastructure-strategy-3915
END:VEVENT

END:VCALENDAR
