BEGIN:VCALENDAR
VERSION:2.0
PRODID:-//ChamberMaster//Event Calendar 2.0//EN
METHOD:PUBLISH
X-PUBLISHED-TTL:P3D
REFRESH-INTERVAL:P3D
CALSCALE:GREGORIAN
BEGIN:VEVENT
DTSTART:20210325T203000Z
DTEND:20210326T040000Z
X-MICROSOFT-CDO-ALLDAYEVENT:FALSE
SUMMARY:The Instillery Waikato Chamber Golf Day 2021
DESCRIPTION:*New date - 26th March* - Please note that due to the change in alert levels on the 14th February we have rescheduled to the 26th March. \n\n\n\nThe Instillery Waikato Chamber Golf Day 2021 Tournament will be held on Friday 26th March 2021 at the Ngaruawahia Golf Club\, this event is proudly sponsored by The Instillery \n\n\n\nThe annual event will again\, attract a large field of competitive golfers and non-golfers battling it out over 18 holes. Over 120 business individuals from around the Waikato compete fiercely for the title of Waikato Chamber Golf Day Champion all while making the most of the unique networking opportunities which the event creates.\n\n\n\nHole Sponsorship + Team of four: $695.00 +GST\n\nTournament Team of four: $450.00 +GST\n\nHole sponsorship only: $400.00 +GST
X-ALT-DESC;FMTTYPE=text/html:<span style="font-size:14px\;">*New date - 26th March* - Please note that due to the change in alert levels on the 14th February we have rescheduled to the 26th March.&nbsp\;</span><br />\n<br />\nThe Instillery Waikato Chamber Golf Day 2021 Tournament will be held on Friday 26th March 2021 at the Ngaruawahia Golf Club\, this event is proudly sponsored by The Instillery&nbsp\;<br />\n<br />\nThe annual event will again\, attract a large field of competitive golfers and non-golfers battling it out over 18 holes. Over 120 business individuals from around the Waikato compete fiercely for the title of Waikato Chamber Golf Day Champion all while making the most of the unique networking opportunities which the event creates.<br />\n<br />\n<strong>Hole Sponsorship + Team of four:</strong> $695.00 +GST<br />\n<strong>Tournament Team of four:</strong> $450.00 +GST<br />\n<strong>Hole sponsorship only:</strong>&nbsp\;$400.00 +GST
LOCATION:Ngaruawahia Golf Club 5925 State Highway 1\, Ngaruawahia
UID:e.2751.2779
SEQUENCE:3
DTSTAMP:20260426T001225Z
URL:https://business.waikatochamber.co.nz/events/details/the-instillery-waikato-chamber-golf-day-2021-2779
END:VEVENT

END:VCALENDAR
