BEGIN:VCALENDAR
VERSION:2.0
PRODID:-//ChamberMaster//Event Calendar 2.0//EN
METHOD:PUBLISH
X-PUBLISHED-TTL:P3D
REFRESH-INTERVAL:P3D
CALSCALE:GREGORIAN
BEGIN:VEVENT
DTSTART:20231112T200000Z
DTEND:20231113T040000Z
X-MICROSOFT-CDO-ALLDAYEVENT:FALSE
SUMMARY:Member Event: The Icehouse - Leadership Development Programme (3 months) for Senior Leaders
DESCRIPTION:Sponsored by: The Icehouse\n\nThe Leadership Development Programme is the only programme in Aotearoa\, New Zealand developed specifically for leaders in small to mid-sized kiwi owner-managed businesses who report directly to an owner or director\, and want to expand their general business\, leadership and management skills.\n\n\n\nThis programme allows you to take seven days away from the business over 3 months\, so you can reflect\, learn and implement. In a unique practical learning environment\, you will:\n\n	Develop yourself\n	Refine your skills as a leader\n	Focus on what drives success in your role\, your team and the business.\n\n\n\nWhat will I develop?\n\n\n	Techniques to improve leadership\, communication and management skills\n	A better understanding of the challenges of an owner-manager\n	How to think strategically to contribute to growing a business\n	A better fundamental understanding of business functions including\, marketing\, finance and operations\n	A project focused on a tangible challenge within your business\n	A strong network of other successful senior leaders\, facilitators and business experts\n	A unique learning environment which combines practical learning\, academic expertise and real-world experience.\n\n\n\nNPS 85 (a score over 50 is considered excellent)\n\n\n\nThe next available programme is LDP55\, starting 9th October.\n\n9-11 October\n\n6-8 November\n\n8 December\n\n\n\nPlease contact Maryse Dinan m.dinan@theicehouse.co.nz to enquire further.
X-ALT-DESC;FMTTYPE=text/html:Sponsored by: The Icehouse<br />\nThe Leadership Development Programme is the only programme in Aotearoa\, New Zealand developed specifically for leaders in small to mid-sized kiwi owner-managed businesses who report directly to an owner or director\, and want to expand their general business\, leadership and management skills.<br />\n<br />\nThis programme allows you to take seven days away from the business over 3 months\, so you can reflect\, learn and implement. In a unique practical learning environment\, you will:\n<ol>\n	<li>Develop yourself</li>\n	<li>Refine your skills as a leader</li>\n	<li>Focus on what drives success in your role\, your team and the business.</li>\n</ol>\n<br />\n<strong>What will I develop?</strong>\n\n<ul>\n	<li>Techniques to improve leadership\, communication and management skills</li>\n	<li>A better understanding of the challenges of an owner-manager</li>\n	<li>How to think strategically to contribute to growing a business</li>\n	<li>A better fundamental understanding of business functions including\, marketing\, finance and operations</li>\n	<li>A project focused on a tangible challenge within your business</li>\n	<li>A strong network of other successful senior leaders\, facilitators and business experts</li>\n	<li>A unique learning environment which combines practical learning\, academic expertise and real-world experience.</li>\n</ul>\n<br />\n<strong><em>NPS 85 (a score over 50 is considered excellent)</em></strong><br />\n<br />\nThe next available programme is LDP55\, starting 9th October.<br />\n9-11 October<br />\n6-8 November<br />\n8 December<br />\n<br />\nPlease contact Maryse Dinan m.dinan@theicehouse.co.nz to enquire further.<br />\n&nbsp\;
LOCATION:Auckland\, New Zealand
UID:e.2751.4317
SEQUENCE:3
DTSTAMP:20260420T114714Z
URL:https://business.waikatochamber.co.nz/events/details/the-icehouse-leadership-development-programme-3-months-for-senior-leaders-11-13-2023-4317
END:VEVENT

END:VCALENDAR
