BEGIN:VCALENDAR
VERSION:2.0
PRODID:-//ChamberMaster//Event Calendar 2.0//EN
METHOD:PUBLISH
X-PUBLISHED-TTL:P3D
REFRESH-INTERVAL:P3D
CALSCALE:GREGORIAN
BEGIN:VEVENT
DTSTART:20231120T200000Z
DTEND:20231121T033000Z
X-MICROSOFT-CDO-ALLDAYEVENT:FALSE
SUMMARY:Member Event: The Dale Carnegie Course
DESCRIPTION:Sponsored by: Dale Carnegie BOP Waikato \n\nFast-changing work conditions require leaders who are equipped to not only keep up\, but excel in the today's business environment. This requires persuasive communication skills\, creative problem solving methods\, and extraordinary confidence and enthusiasm.\n\nWhile many may think they possess these skills now\, through this unique experience\, even the best and brightest discover opportunities to grow and improve the skills required to outdistance the competition. Aspiring leaders in all professions learn to connect with people more skillfully and lead organisations to higher levels of productivity.\n\nThis inspirational programme is a life-changing event not only for business people\, but for world leaders\, professional athletes and entertainers\, who while coming from diverse specialties\, have one thing in common -- an intentional goal of outperforming their personal best.\n\nLeaving\, you'll feel revitalised\, equipped with a new vision for the future.  What's more\, you'll leave with a plan for implementing that fresh vision with the verve and vigor needed to perform on today's center stage.\n\nDiscover and master the same skills and attitudes for achieving amazing results\, and join the ranks of the world's most successful people!\nLearn How To:\n\n\n	Energise your career\n	Build confidence and break down belief barriers\n	Create an intentional\, sustainable future\n	Strengthen key relationships\n	Resolve conflict and build consensus\n	Build Resilience\n	Influence others\n	Maintain a positive outlook on challenges and change\n	Excel as a communicator\n	Stand head and shoulders about the crowd!
X-ALT-DESC;FMTTYPE=text/html:<span style="color:rgb(0\, 0\, 0)\; font-family:arial\; font-size:10pt">Sponsored by: </span><span style="color:#000000\;"><span style="font-family:arial\;">D<span style="font-size:12px\;">ale Carnegie BOP Waikato</span>&nbsp\;</span></span><br />\n<span style="color:rgb(0\, 0\, 0)\; font-family:arial\; font-size:10pt">Fast-changing work conditions require leaders who are equipped to not only keep up\, but excel in the today&rsquo\;s business environment. This requires persuasive communication skills\, creative problem solving methods\, and extraordinary confidence and enthusiasm.</span><br />\n<span style="color:rgb(0\, 0\, 0)\; font-family:arial\; font-size:10pt">While many may think they possess these skills now\, through this unique experience\, even the best and brightest discover opportunities to grow and improve the skills required to outdistance the competition. Aspiring leaders in all professions learn to connect with people more skillfully and lead organisations to higher levels of productivity.</span><br />\n<span style="color:rgb(0\, 0\, 0)\; font-family:arial\; font-size:10pt">This inspirational programme is a life-changing event not only for business people\, but for world leaders\, professional athletes and entertainers\, who while coming from diverse specialties\, have one thing in common -- an intentional goal of outperforming their personal best.</span><br />\n<span style="color:rgb(0\, 0\, 0)\; font-family:arial\; font-size:10pt">Leaving\, you&rsquo\;ll feel revitalised\, equipped with a new vision for the future.&nbsp\; What&rsquo\;s more\, you&rsquo\;ll leave with a plan for implementing that fresh vision with the verve and vigor needed to perform on today&rsquo\;s center stage.</span><br />\n<span style="color:rgb(0\, 0\, 0)\; font-family:arial\; font-size:10pt">Discover and master the same skills and attitudes for achieving amazing results\, and join the ranks of the world&rsquo\;s most successful people!</span>\n<p><span style="font-family:arial"><span style="font-family:inherit"><span style="font-family:inherit\; font-size:12pt">Learn How To:</span></span></span></p>\n\n<ul>\n	<li><span style="font-family:arial"><span style="font-family:inherit\; font-size:10pt">Energise your career</span></span></li>\n	<li><span style="font-family:arial"><span style="font-family:inherit\; font-size:10pt">Build confidence and break down belief barriers</span></span></li>\n	<li><span style="font-family:arial"><span style="font-family:inherit\; font-size:10pt">Create an intentional\, sustainable future</span></span></li>\n	<li><span style="font-family:arial"><span style="font-family:inherit\; font-size:10pt">Strengthen key relationships</span></span></li>\n	<li><span style="font-family:arial"><span style="font-family:inherit\; font-size:10pt">Resolve conflict and build consensus</span></span></li>\n	<li><span style="font-family:arial"><span style="font-family:inherit\; font-size:10pt">Build Resilience</span></span></li>\n	<li><span style="font-family:arial"><span style="font-family:inherit\; font-size:10pt">Influence others</span></span></li>\n	<li><span style="font-family:arial"><span style="font-family:inherit\; font-size:10pt">Maintain a positive outlook on challenges and change</span></span></li>\n	<li><span style="font-family:arial"><span style="font-family:inherit\; font-size:10pt">Excel as a communicator</span></span></li>\n	<li><span style="font-family:arial"><span style="font-family:inherit\; font-size:10pt">Stand head and shoulders about the crowd!</span></span></li>\n</ul>\n
LOCATION:Classics Museum\, 11 Railside Drive\, Hamilton
UID:e.2751.4312
SEQUENCE:3
DTSTAMP:20260420T132237Z
URL:https://business.waikatochamber.co.nz/events/details/the-dale-carnegie-course-11-21-2023-4312
END:VEVENT

END:VCALENDAR
