BEGIN:VCALENDAR
VERSION:2.0
PRODID:-//ChamberMaster//Event Calendar 2.0//EN
METHOD:PUBLISH
X-PUBLISHED-TTL:P3D
REFRESH-INTERVAL:P3D
CALSCALE:GREGORIAN
BEGIN:VEVENT
DTSTART:20220829T210000Z
DTEND:20220830T050000Z
X-MICROSOFT-CDO-ALLDAYEVENT:FALSE
SUMMARY:The Context: Asia-Pacific Summit
DESCRIPTION:Sponsored by Centres of Asia-Pacific Excellence\n\n \nJoin us at the CAPEs inaugural Asia-Pacific summit to discuss how we can navigate today's business challenges and enter new markets while setting a course for a sustainable\, inclusive\, and profitable future.\n\n \n\nThe Asia-Pacific offers great opportunities to overcome our challenges and do business better. Seizing these opportunities involves changes to how we do business and our supporting ecosystems. What can we change together? Make connections and find out as we bring together leading business academics and business leaders to understand the 'whys' and the 'hows' of Asia-Pacific business.\n\n \n\nThe panel discussions and practical breakout sessions will connect business leaders and top academic researchers\, from fields such as international business\, M ori and Indigenous business\, talent development\, consumer engagement and tech.\n\n \n\nConfirmed speakers and moderators include: \n\n \n\n\n	Katy Bluett\, Establishment Director\, Future Food Aotearoa\n	Potaua Biasiny-Tule\, Co-Founder\, Digital Natives Academy\n	Mitchell Pham\, Co-Founder and Director\, CodeHQ Chair\, NZ Tech\n	Mario Wynands\, Managing Director\, PikPok\n	Dr Guillermo Merelo\, Associate Director\, Staff Diversity\, Equity and Inclusion\, University of Auckland\n	Professor Natasha Hamilton-Hart\, Director of New Zealand Asia Institute\, University of Auckland\n	Dr Jason Mika\, Associate Professor of M ori Business\, University of Waikato\n	Dr Antje Fiedler\, Senior Lecturer in Management and International Business\, University of Auckland\n	Dr Tanya Jurado\, Senior Lecturer in the School of Management\, Massey University\n	Dr Dana L. Ott\, Senior Lecturer in the Department of Management\, University of Otago\n	Stephanie Honey\, Independent Trade Consultant\, Associate Director of the New Zealand International Business Forum\n	Jacqui Caine\, General Manager of Te Whakaariki Strategy and Influence team\, Te R nanga o Ng i Tahu\n	MC: Julian Wilcox\n\n	 \n\n\nFind out more\, including a full speaker list\, on our website: https://cape.org.nz/summit/
X-ALT-DESC;FMTTYPE=text/html:<strong><u>Sponsored by Centres of Asia-Pacific Excellence</u></strong><br />\n&nbsp\;\n<div>Join us at the CAPEs inaugural Asia-Pacific summit to discuss how we can navigate today&#39\;s business challenges and enter new markets while setting a course for a sustainable\, inclusive\, and profitable future.<br />\n&nbsp\;</div>\n\n<div>The Asia-Pacific offers great opportunities to overcome our challenges and do business better. Seizing these opportunities involves changes to how we do business and our supporting ecosystems. What can we change together? Make connections and find out as we bring together leading business academics and business leaders to understand the &#39\;whys&#39\;&nbsp\;and the &#39\;hows&#39\;&nbsp\;of Asia-Pacific business.<br />\n&nbsp\;</div>\n\n<div>The panel discussions and practical breakout sessions will connect business leaders and top academic researchers\, from fields such as international business\, M&#257\;ori and Indigenous business\, talent development\, consumer engagement and tech.<br />\n&nbsp\;</div>\n\n<div>Confirmed speakers and moderators include:&nbsp\;<br />\n&nbsp\;</div>\n\n<ul>\n	<li>Katy Bluett\, Establishment Director\, Future Food Aotearoa</li>\n	<li>Potaua Biasiny-Tule\, Co-Founder\, Digital Natives Academy</li>\n	<li>Mitchell Pham\, Co-Founder and Director\, CodeHQ Chair\, NZ Tech</li>\n	<li>Mario Wynands\, Managing Director\, PikPok</li>\n	<li>Dr Guillermo Merelo\, Associate Director\, Staff Diversity\, Equity and Inclusion\, University of Auckland</li>\n	<li>Professor Natasha Hamilton-Hart\, Director of New Zealand Asia Institute\, University of Auckland</li>\n	<li>Dr Jason Mika\, Associate Professor of M&#257\;ori Business\, University of Waikato</li>\n	<li>Dr Antje Fiedler\, Senior Lecturer in Management and International Business\, University of Auckland</li>\n	<li>Dr Tanya Jurado\, Senior Lecturer in the School of Management\, Massey University</li>\n	<li>Dr Dana L. Ott\, Senior Lecturer in the Department of Management\, University of Otago</li>\n	<li>Stephanie Honey\, Independent Trade Consultant\, Associate Director of the New Zealand International Business Forum</li>\n	<li>Jacqui Caine\, General Manager of Te Whakaariki Strategy and Influence team\, Te R&#363\;nanga o Ng&#257\;i Tahu</li>\n	<li>MC: Julian Wilcox<br />\n	&nbsp\;</li>\n</ul>\n\n<div>Find out more\, including a full speaker list\, on our website:&nbsp\;https://cape.org.nz/summit/</div>\n
LOCATION:Hybrid event: Owen G Glenn Building\, University of Auckland Business School and live online
UID:e.2751.3923
SEQUENCE:3
DTSTAMP:20260425T163815Z
URL:https://business.waikatochamber.co.nz/events/details/the-context-asia-pacific-summit-3923
END:VEVENT

END:VCALENDAR
