BEGIN:VCALENDAR
VERSION:2.0
PRODID:-//ChamberMaster//Event Calendar 2.0//EN
METHOD:PUBLISH
X-PUBLISHED-TTL:P3D
REFRESH-INTERVAL:P3D
CALSCALE:GREGORIAN
BEGIN:VEVENT
DTSTART:20260505T050000Z
DTEND:20260505T063000Z
X-MICROSOFT-CDO-ALLDAYEVENT:FALSE
SUMMARY:South Waikato Members Meeting
DESCRIPTION:Join us for our upcoming South Waikato Members Meeting\, a relaxed and engaging opportunity to connect with fellow local businesses and grow your network.\n\n\n\nWhether you are a long-standing member\, new to the Chamber\, or simply curious about how we can support your business\, this event is designed to bring people together in a welcoming\, community-focused environment.\n\n\n\nEnjoy facilitated networking to help spark meaningful conversations and connections\, along with insights into how the Chamber can support your business journey. You will also hear from our alliance partner\, ChamberWorks\, and our hosts at Over the Moon Dairy\, with the chance to sample their award-winning cheeses.\n\n\n\nThere will be refreshments\, plenty of opportunities to connect\, and a bit of fun with spot prizes up for grabs.\n\n\n\nWe look forward to seeing you there.\n\n \n\n\nChamberWorks   hiring that works for you\n\nFinding the right people\, and supporting them to succeed\, is one of the biggest challenges facing employers today. ChamberWorks is here to help.\n\n \n\nChamberWorks is a free national programme supported by the New Zealand Chambers of Commerce\, in partnership with the Ministry of Social Development. It connects employers with local\, pre-screened candidates from New Zealand's largest talent pipeline and provides access to practical tools and support   all in one place.\n\n \n\nBusinesses can get expert help to find talent faster\, access free online learning to upskill teams\, wellbeing support\, and resources to strengthen hiring and build capability.
X-ALT-DESC;FMTTYPE=text/html:<div style="-webkit-user-drag:none\;padding:0px\;user-select:text\;clear:both\;cursor:text\;overflow:visible\;position:relative\;direction:ltr\;font-family:Segoe UI\, Segoe UI Web\, Arial\, Verdana\, sans-serif\;font-size:12px\;"><span style="font-size:14px\;"><span style="font-family:arial\;"><span data-contrast="auto" style="-webkit-user-drag:none\;padding:0px\;user-select:text\;font-variant-ligatures:none !important\;" xml:lang="EN-GB"><span style="-webkit-user-drag:none\;padding:0px\;user-select:text\;">Join us for our upcoming <strong>South Waikato Members Meeting</strong>\, a relaxed and engaging opportunity to connect with fellow local businesses and grow your network.<br />\n<br />\nWhether you are a long-standing member\, new to the Chamber\, or simply curious about how we can support your business\, this event is designed to bring people together in a welcoming\, community-focused environment.<br />\n<br />\nEnjoy facilitated networking to help spark meaningful conversations and connections\, along with insights into how the Chamber can support your business journey. You will also hear from our alliance partner\, <a href="https://chamberworks.nz/" target="_blank">ChamberWorks</a>\, and our hosts at </span></span></span></span><a href="https://overthemoondairy.co.nz/" style="font-family: arial\; font-size: 14px\; font-variant-ligatures: none\;" target="_blank">Over the Moon Dairy</a><span style="font-size:14px\;"><span style="font-family:arial\;"><span data-contrast="auto" style="-webkit-user-drag:none\;padding:0px\;user-select:text\;font-variant-ligatures:none !important\;" xml:lang="EN-GB"><span style="-webkit-user-drag:none\;padding:0px\;user-select:text\;">\, with the chance to sample their award-winning cheeses.<br />\n<br />\nThere will be refreshments\, plenty of opportunities to connect\, and a bit of fun with spot prizes up for grabs.<br />\n<br />\nWe look forward to seeing you there.</span></span></span></span><br />\n&nbsp\;\n<div><br />\n<u><strong><span style="font-size:14px\;"><span style="font-family:arial\;">ChamberWorks &ndash\; hiring that works for you</span></span></strong></u></div>\n\n<div><span style="font-size:14px\;"><span style="font-family:arial\;">Finding the right people\, and supporting them to succeed\, is one of the biggest challenges facing employers today. ChamberWorks is here to help.</span></span><br />\n&nbsp\;</div>\n\n<div><span style="font-size:14px\;"><span style="font-family:arial\;">ChamberWorks is a <strong>free national programme supported by the New Zealand Chambers of Commerce\, in partnership with the Ministry of Social Development</strong>. It connects employers with local\, pre-screened candidates from New Zealand&rsquo\;s largest talent pipeline and provides access to practical tools and support &ndash\; all in one place.</span></span><br />\n&nbsp\;</div>\n\n<div><span style="font-size:14px\;"><span style="font-family:arial\;">Businesses can get expert help to find talent faster\, access free online learning to upskill teams\, wellbeing support\, and resources to strengthen hiring and build capability.</span></span></div>\n</div>\n
LOCATION:Over the Moon Dairy 33 Tirau Street\, Put ruru
UID:e.2751.5217
SEQUENCE:3
DTSTAMP:20260424T014427Z
URL:https://business.waikatochamber.co.nz/events/details/south-waikato-members-meeting-5217
END:VEVENT

END:VCALENDAR
