BEGIN:VCALENDAR
VERSION:2.0
PRODID:-//ChamberMaster//Event Calendar 2.0//EN
METHOD:PUBLISH
X-PUBLISHED-TTL:P3D
REFRESH-INTERVAL:P3D
CALSCALE:GREGORIAN
BEGIN:VEVENT
DTSTART:20190221T213000Z
DTEND:20190222T040000Z
X-MICROSOFT-CDO-ALLDAYEVENT:FALSE
SUMMARY:Smith & McKenzie Waikato Chamber Golf Day 2019
DESCRIPTION:The Smith & McKenzie Waikato Chamber Golf Day 2019 Tournament will be held on Friday 22nd February 2019 at the Ngaruawahia Golf Club. \n\n\n\nThe annual event will again\, attract a large field of competitive golfers and non-golfers battling it out over 18 holes. Over 120 business individuals from around the Waikato compete fiercely for the title of Waikato Chamber Golf Day Champion all while making the most of the unique networking opportunities which the event creates.\n\n\n\nThis year\, players have the chance to WIN A CAR! We've partnered with our good friends from Duncan & Ebbett to offer up a stunning Hole-In-One prize. Be in to win a brand new Volvo XC60. Talk about a prize!\n\n\n\nHole Sponsorship + Team of four: $695.00 +GST\n\nTournament Team of four: $450.00 +GST\n\nHole sponsorship only: $400.00 +GST
X-ALT-DESC;FMTTYPE=text/html:The Smith &amp\; McKenzie Waikato Chamber Golf Day 2019 Tournament will be held on Friday 22nd February 2019 at the Ngaruawahia Golf Club.&nbsp\;<br />\n<br />\nThe annual event will again\, attract a large field of competitive golfers and non-golfers battling it out over 18 holes. Over 120 business individuals from around the Waikato compete fiercely for the title of Waikato Chamber Golf Day Champion all while making the most of the unique networking opportunities which the event creates.<br />\n<br />\nThis year\, players have the chance to <strong>WIN A CAR</strong>! We&#39\;ve partnered with our good friends from <strong>Duncan &amp\; Ebbett</strong> to offer up a stunning Hole-In-One prize. <strong>Be in to win a brand new Volvo XC60</strong>. Talk about a prize!<br />\n<br />\n<strong>Hole Sponsorship + Team of four:</strong> $695.00 +GST<br />\n<strong>Tournament Team of four:</strong> $450.00 +GST<br />\n<strong>Hole sponsorship only:</strong>&nbsp\;$400.00 +GST
LOCATION:Ngaruawahia Golf Club 5925 State Highway 1\, Ngaruawahia
UID:e.2751.2617
SEQUENCE:3
DTSTAMP:20260422T190248Z
URL:https://business.waikatochamber.co.nz/events/details/smith-mckenzie-waikato-chamber-golf-day-2019-2617
END:VEVENT

END:VCALENDAR
