BEGIN:VCALENDAR
VERSION:2.0
PRODID:-//ChamberMaster//Event Calendar 2.0//EN
METHOD:PUBLISH
X-PUBLISHED-TTL:P3D
REFRESH-INTERVAL:P3D
CALSCALE:GREGORIAN
BEGIN:VEVENT
DTSTART:20220907T053000Z
DTEND:20220907T073000Z
X-MICROSOFT-CDO-ALLDAYEVENT:FALSE
SUMMARY:Rotary Clubs 2022 Mayoral Candidate Debate
DESCRIPTION:Sponsored by Hamilton Combined Rotary Clubs\n\n \n\nThe Hamilton Combined Rotary Clubs present the 2022 Mayoral Candidate Debate.\n\n\n\n\n\nNote: the Chamber's own Mayoral Debate will take place on 27 September.
X-ALT-DESC;FMTTYPE=text/html:<p><strong><u>Sponsored by Hamilton Combined Rotary Clubs</u></strong><br />\n&nbsp\;</p>\n\n<p>The Hamilton Combined Rotary Clubs present the 2022 Mayoral Candidate Debate.</p>\n\n<p><br />\n<br />\nNote: the Chamber&#39\;s own <a href="https://business.waikatochamber.co.nz/events/details/waikato-chamber-hamilton-city-mayoral-debate-business-meets-the-candidates-3929?calendarMonth=2022-09-01">Mayoral Debate</a> will take place on 27 September.</p>\n
LOCATION:Hamilton Workingmen's Club\, 45 Commerce St\, Frankton
UID:e.2751.3931
SEQUENCE:3
DTSTAMP:20260425T180330Z
URL:https://business.waikatochamber.co.nz/events/details/rotary-clubs-2022-mayoral-candidate-debate-3931
END:VEVENT

END:VCALENDAR
